BEGIN:VCALENDAR
VERSION:2.0
PRODID:-//Kiwassa Neighbourhood House - ECPv6.15.20//NONSGML v1.0//EN
CALSCALE:GREGORIAN
METHOD:PUBLISH
X-WR-CALNAME:Kiwassa Neighbourhood House
X-ORIGINAL-URL:https://www.kiwassa.ca
X-WR-CALDESC:Events for Kiwassa Neighbourhood House
REFRESH-INTERVAL;VALUE=DURATION:PT1H
X-Robots-Tag:noindex
X-PUBLISHED-TTL:PT1H
BEGIN:VTIMEZONE
TZID:America/Los_Angeles
BEGIN:DAYLIGHT
TZOFFSETFROM:-0800
TZOFFSETTO:-0700
TZNAME:PDT
DTSTART:20240310T100000
END:DAYLIGHT
BEGIN:STANDARD
TZOFFSETFROM:-0700
TZOFFSETTO:-0800
TZNAME:PST
DTSTART:20241103T090000
END:STANDARD
BEGIN:DAYLIGHT
TZOFFSETFROM:-0800
TZOFFSETTO:-0700
TZNAME:PDT
DTSTART:20250309T100000
END:DAYLIGHT
BEGIN:STANDARD
TZOFFSETFROM:-0700
TZOFFSETTO:-0800
TZNAME:PST
DTSTART:20251102T090000
END:STANDARD
BEGIN:DAYLIGHT
TZOFFSETFROM:-0800
TZOFFSETTO:-0700
TZNAME:PDT
DTSTART:20260308T100000
END:DAYLIGHT
BEGIN:STANDARD
TZOFFSETFROM:-0700
TZOFFSETTO:-0800
TZNAME:PST
DTSTART:20261101T090000
END:STANDARD
END:VTIMEZONE
BEGIN:VEVENT
DTSTART;TZID=America/Los_Angeles:20250527T100000
DTEND;TZID=America/Los_Angeles:20250527T130000
DTSTAMP:20260420T211228
CREATED:20250331T224300Z
LAST-MODIFIED:20250331T225200Z
UID:10011777-1748340000-1748350800@www.kiwassa.ca
SUMMARY:EMPOW3R Cohort 25
DESCRIPTION:For more information email Empow3r@kiwassa.ca or visit https://empow3r.ca/ 
URL:https://www.kiwassa.ca/event/empow3r-cohort-25/2025-05-27/
LOCATION:BC
CATEGORIES:Employment Support
END:VEVENT
BEGIN:VEVENT
DTSTART;TZID=America/Los_Angeles:20250526T100000
DTEND;TZID=America/Los_Angeles:20250526T130000
DTSTAMP:20260420T211228
CREATED:20250331T224300Z
LAST-MODIFIED:20250331T225200Z
UID:10011776-1748253600-1748264400@www.kiwassa.ca
SUMMARY:EMPOW3R Cohort 25
DESCRIPTION:For more information email Empow3r@kiwassa.ca or visit https://empow3r.ca/ 
URL:https://www.kiwassa.ca/event/empow3r-cohort-25/2025-05-26/
LOCATION:BC
CATEGORIES:Employment Support
END:VEVENT
BEGIN:VEVENT
DTSTART;TZID=America/Los_Angeles:20250523T100000
DTEND;TZID=America/Los_Angeles:20250523T130000
DTSTAMP:20260420T211228
CREATED:20250331T224300Z
LAST-MODIFIED:20250331T225200Z
UID:10011775-1747994400-1748005200@www.kiwassa.ca
SUMMARY:EMPOW3R Cohort 25
DESCRIPTION:For more information email Empow3r@kiwassa.ca or visit https://empow3r.ca/ 
URL:https://www.kiwassa.ca/event/empow3r-cohort-25/2025-05-23/
LOCATION:BC
CATEGORIES:Employment Support
END:VEVENT
BEGIN:VEVENT
DTSTART;TZID=America/Los_Angeles:20250522T100000
DTEND;TZID=America/Los_Angeles:20250522T130000
DTSTAMP:20260420T211228
CREATED:20250331T224300Z
LAST-MODIFIED:20250331T225200Z
UID:10011774-1747908000-1747918800@www.kiwassa.ca
SUMMARY:EMPOW3R Cohort 25
DESCRIPTION:For more information email Empow3r@kiwassa.ca or visit https://empow3r.ca/ 
URL:https://www.kiwassa.ca/event/empow3r-cohort-25/2025-05-22/
LOCATION:BC
CATEGORIES:Employment Support
END:VEVENT
BEGIN:VEVENT
DTSTART;TZID=America/Los_Angeles:20250521T103000
DTEND;TZID=America/Los_Angeles:20250521T123000
DTSTAMP:20260420T211228
CREATED:20250414T225623Z
LAST-MODIFIED:20250414T230335Z
UID:10011795-1747823400-1747830600@www.kiwassa.ca
SUMMARY:Nobody's Perfect (Arabic)
DESCRIPTION:For more information\, contact Anas AL Hassan at anasa@kiwassa.ca or 604 307 1400
URL:https://www.kiwassa.ca/event/nobodys-perfect-arabic/2025-05-21/
LOCATION:BC
CATEGORIES:Family Programs
END:VEVENT
BEGIN:VEVENT
DTSTART;TZID=America/Los_Angeles:20250521T100000
DTEND;TZID=America/Los_Angeles:20250521T130000
DTSTAMP:20260420T211228
CREATED:20250331T224300Z
LAST-MODIFIED:20250331T225200Z
UID:10011773-1747821600-1747832400@www.kiwassa.ca
SUMMARY:EMPOW3R Cohort 25
DESCRIPTION:For more information email Empow3r@kiwassa.ca or visit https://empow3r.ca/ 
URL:https://www.kiwassa.ca/event/empow3r-cohort-25/2025-05-21/
LOCATION:BC
CATEGORIES:Employment Support
END:VEVENT
BEGIN:VEVENT
DTSTART;TZID=America/Los_Angeles:20250520T100000
DTEND;TZID=America/Los_Angeles:20250520T130000
DTSTAMP:20260420T211228
CREATED:20250331T224300Z
LAST-MODIFIED:20250331T225200Z
UID:10011772-1747735200-1747746000@www.kiwassa.ca
SUMMARY:EMPOW3R Cohort 25
DESCRIPTION:For more information email Empow3r@kiwassa.ca or visit https://empow3r.ca/ 
URL:https://www.kiwassa.ca/event/empow3r-cohort-25/2025-05-20/
LOCATION:BC
CATEGORIES:Employment Support
END:VEVENT
BEGIN:VEVENT
DTSTART;VALUE=DATE:20250519
DTEND;VALUE=DATE:20250520
DTSTAMP:20260420T211228
CREATED:20250331T181941Z
LAST-MODIFIED:20250331T182202Z
UID:10011729-1747612800-1747699199@www.kiwassa.ca
SUMMARY:Closed: Victoria Day
DESCRIPTION:
URL:https://www.kiwassa.ca/event/closed-victoria-day/
LOCATION:BC
END:VEVENT
BEGIN:VEVENT
DTSTART;TZID=America/Los_Angeles:20250516T100000
DTEND;TZID=America/Los_Angeles:20250516T130000
DTSTAMP:20260420T211228
CREATED:20250331T224300Z
LAST-MODIFIED:20250331T225200Z
UID:10011770-1747389600-1747400400@www.kiwassa.ca
SUMMARY:EMPOW3R Cohort 25
DESCRIPTION:For more information email Empow3r@kiwassa.ca or visit https://empow3r.ca/ 
URL:https://www.kiwassa.ca/event/empow3r-cohort-25/2025-05-16/
LOCATION:BC
CATEGORIES:Employment Support
END:VEVENT
BEGIN:VEVENT
DTSTART;TZID=America/Los_Angeles:20250515T100000
DTEND;TZID=America/Los_Angeles:20250515T130000
DTSTAMP:20260420T211228
CREATED:20250331T224300Z
LAST-MODIFIED:20250331T225200Z
UID:10011769-1747303200-1747314000@www.kiwassa.ca
SUMMARY:EMPOW3R Cohort 25
DESCRIPTION:For more information email Empow3r@kiwassa.ca or visit https://empow3r.ca/ 
URL:https://www.kiwassa.ca/event/empow3r-cohort-25/2025-05-15/
LOCATION:BC
CATEGORIES:Employment Support
END:VEVENT
BEGIN:VEVENT
DTSTART;TZID=America/Los_Angeles:20250514T103000
DTEND;TZID=America/Los_Angeles:20250514T123000
DTSTAMP:20260420T211228
CREATED:20250414T225623Z
LAST-MODIFIED:20250414T230335Z
UID:10011794-1747218600-1747225800@www.kiwassa.ca
SUMMARY:Nobody's Perfect (Arabic)
DESCRIPTION:For more information\, contact Anas AL Hassan at anasa@kiwassa.ca or 604 307 1400
URL:https://www.kiwassa.ca/event/nobodys-perfect-arabic/2025-05-14/
LOCATION:BC
CATEGORIES:Family Programs
END:VEVENT
BEGIN:VEVENT
DTSTART;TZID=America/Los_Angeles:20250514T100000
DTEND;TZID=America/Los_Angeles:20250514T130000
DTSTAMP:20260420T211228
CREATED:20250331T224300Z
LAST-MODIFIED:20250331T225200Z
UID:10011768-1747216800-1747227600@www.kiwassa.ca
SUMMARY:EMPOW3R Cohort 25
DESCRIPTION:For more information email Empow3r@kiwassa.ca or visit https://empow3r.ca/ 
URL:https://www.kiwassa.ca/event/empow3r-cohort-25/2025-05-14/
LOCATION:BC
CATEGORIES:Employment Support
END:VEVENT
BEGIN:VEVENT
DTSTART;TZID=America/Los_Angeles:20250513T100000
DTEND;TZID=America/Los_Angeles:20250513T130000
DTSTAMP:20260420T211228
CREATED:20250331T224300Z
LAST-MODIFIED:20250331T225200Z
UID:10011767-1747130400-1747141200@www.kiwassa.ca
SUMMARY:EMPOW3R Cohort 25
DESCRIPTION:For more information email Empow3r@kiwassa.ca or visit https://empow3r.ca/ 
URL:https://www.kiwassa.ca/event/empow3r-cohort-25/2025-05-13/
LOCATION:BC
CATEGORIES:Employment Support
END:VEVENT
BEGIN:VEVENT
DTSTART;TZID=America/Los_Angeles:20250512T100000
DTEND;TZID=America/Los_Angeles:20250512T130000
DTSTAMP:20260420T211228
CREATED:20250331T224300Z
LAST-MODIFIED:20250331T225200Z
UID:10011766-1747044000-1747054800@www.kiwassa.ca
SUMMARY:EMPOW3R Cohort 25
DESCRIPTION:For more information email Empow3r@kiwassa.ca or visit https://empow3r.ca/ 
URL:https://www.kiwassa.ca/event/empow3r-cohort-25/2025-05-12/
LOCATION:BC
CATEGORIES:Employment Support
END:VEVENT
BEGIN:VEVENT
DTSTART;TZID=America/Los_Angeles:20250509T100000
DTEND;TZID=America/Los_Angeles:20250509T130000
DTSTAMP:20260420T211228
CREATED:20250331T224300Z
LAST-MODIFIED:20250331T225200Z
UID:10011765-1746784800-1746795600@www.kiwassa.ca
SUMMARY:EMPOW3R Cohort 25
DESCRIPTION:For more information email Empow3r@kiwassa.ca or visit https://empow3r.ca/ 
URL:https://www.kiwassa.ca/event/empow3r-cohort-25/2025-05-09/
LOCATION:BC
CATEGORIES:Employment Support
END:VEVENT
BEGIN:VEVENT
DTSTART;TZID=America/Los_Angeles:20250508T100000
DTEND;TZID=America/Los_Angeles:20250508T130000
DTSTAMP:20260420T211228
CREATED:20250331T224300Z
LAST-MODIFIED:20250331T225200Z
UID:10011764-1746698400-1746709200@www.kiwassa.ca
SUMMARY:EMPOW3R Cohort 25
DESCRIPTION:For more information email Empow3r@kiwassa.ca or visit https://empow3r.ca/ 
URL:https://www.kiwassa.ca/event/empow3r-cohort-25/2025-05-08/
LOCATION:BC
CATEGORIES:Employment Support
END:VEVENT
BEGIN:VEVENT
DTSTART;TZID=America/Los_Angeles:20250507T103000
DTEND;TZID=America/Los_Angeles:20250507T123000
DTSTAMP:20260420T211228
CREATED:20250414T225623Z
LAST-MODIFIED:20250414T230335Z
UID:10011793-1746613800-1746621000@www.kiwassa.ca
SUMMARY:Nobody's Perfect (Arabic)
DESCRIPTION:For more information\, contact Anas AL Hassan at anasa@kiwassa.ca or 604 307 1400
URL:https://www.kiwassa.ca/event/nobodys-perfect-arabic/2025-05-07/
LOCATION:BC
CATEGORIES:Family Programs
END:VEVENT
BEGIN:VEVENT
DTSTART;TZID=America/Los_Angeles:20250507T100000
DTEND;TZID=America/Los_Angeles:20250507T130000
DTSTAMP:20260420T211228
CREATED:20250331T224300Z
LAST-MODIFIED:20250331T225200Z
UID:10011763-1746612000-1746622800@www.kiwassa.ca
SUMMARY:EMPOW3R Cohort 25
DESCRIPTION:For more information email Empow3r@kiwassa.ca or visit https://empow3r.ca/ 
URL:https://www.kiwassa.ca/event/empow3r-cohort-25/2025-05-07/
LOCATION:BC
CATEGORIES:Employment Support
END:VEVENT
BEGIN:VEVENT
DTSTART;TZID=America/Los_Angeles:20250506T100000
DTEND;TZID=America/Los_Angeles:20250506T130000
DTSTAMP:20260420T211228
CREATED:20250331T224300Z
LAST-MODIFIED:20250331T225200Z
UID:10011762-1746525600-1746536400@www.kiwassa.ca
SUMMARY:EMPOW3R Cohort 25
DESCRIPTION:For more information email Empow3r@kiwassa.ca or visit https://empow3r.ca/ 
URL:https://www.kiwassa.ca/event/empow3r-cohort-25/2025-05-06/
LOCATION:BC
CATEGORIES:Employment Support
END:VEVENT
BEGIN:VEVENT
DTSTART;TZID=America/Los_Angeles:20250505T100000
DTEND;TZID=America/Los_Angeles:20250505T130000
DTSTAMP:20260420T211228
CREATED:20250331T224300Z
LAST-MODIFIED:20250331T225200Z
UID:10011761-1746439200-1746450000@www.kiwassa.ca
SUMMARY:EMPOW3R Cohort 25
DESCRIPTION:For more information email Empow3r@kiwassa.ca or visit https://empow3r.ca/ 
URL:https://www.kiwassa.ca/event/empow3r-cohort-25/2025-05-05/
LOCATION:BC
CATEGORIES:Employment Support
END:VEVENT
BEGIN:VEVENT
DTSTART;TZID=America/Los_Angeles:20250502T130000
DTEND;TZID=America/Los_Angeles:20250502T140000
DTSTAMP:20260420T211228
CREATED:20250417T220103Z
LAST-MODIFIED:20250417T220116Z
UID:10011820-1746190800-1746194400@www.kiwassa.ca
SUMMARY:Sound Bath Session
DESCRIPTION:🌟 Join Us for a Community Sound Bath at Kiwassa Neighbourhood House! 🌟 \nTake a moment to relax\, recharge\, and connect. You’re invited to a Sound Bath — a soothing\, immersive experience where you’ll be gently surrounded by the calming tones of crystal singing bowls\, chimes\, and other healing instruments. \n🧘‍♂️ What’s a Sound Bath?\nIt’s like a meditation\, but with soothing sounds! The vibrations help reduce stress\, clear the mind\, and bring balance to the body. \n📅 May 2\, Friday\n⏰ 1:00 – 2:00 PM\n📍 Kiwassa Neighbourhood House (2425 Oxford Street\, Vancouver) \nThis session is free and open to all ages and experience levels. Don’t forget to bring your own mat! \nSecure your spot by emailing community.coordinator@kiwassa.ca  \n 
URL:https://www.kiwassa.ca/event/12968/
LOCATION:BC
END:VEVENT
BEGIN:VEVENT
DTSTART;TZID=America/Los_Angeles:20250502T100000
DTEND;TZID=America/Los_Angeles:20250502T130000
DTSTAMP:20260420T211228
CREATED:20250331T224300Z
LAST-MODIFIED:20250331T225200Z
UID:10011760-1746180000-1746190800@www.kiwassa.ca
SUMMARY:EMPOW3R Cohort 25
DESCRIPTION:For more information email Empow3r@kiwassa.ca or visit https://empow3r.ca/ 
URL:https://www.kiwassa.ca/event/empow3r-cohort-25/2025-05-02/
LOCATION:BC
CATEGORIES:Employment Support
END:VEVENT
BEGIN:VEVENT
DTSTART;TZID=America/Los_Angeles:20250501T153000
DTEND;TZID=America/Los_Angeles:20250501T173000
DTSTAMP:20260420T211228
CREATED:20250307T201331Z
LAST-MODIFIED:20250307T201331Z
UID:10011671-1746113400-1746120600@www.kiwassa.ca
SUMMARY:Youth Drop-in
DESCRIPTION:Contact Luisa for more info at 778-833-1485 or email youth.coordinator@kiwassa.ca
URL:https://www.kiwassa.ca/event/youth-drop-in-6/2025-05-01/
LOCATION:BC
CATEGORIES:Youth
END:VEVENT
BEGIN:VEVENT
DTSTART;TZID=America/Los_Angeles:20250501T100000
DTEND;TZID=America/Los_Angeles:20250501T130000
DTSTAMP:20260420T211228
CREATED:20250331T224300Z
LAST-MODIFIED:20250331T225200Z
UID:10011759-1746093600-1746104400@www.kiwassa.ca
SUMMARY:EMPOW3R Cohort 25
DESCRIPTION:For more information email Empow3r@kiwassa.ca or visit https://empow3r.ca/ 
URL:https://www.kiwassa.ca/event/empow3r-cohort-25/2025-05-01/
LOCATION:BC
CATEGORIES:Employment Support
END:VEVENT
BEGIN:VEVENT
DTSTART;TZID=America/Los_Angeles:20250430T153000
DTEND;TZID=America/Los_Angeles:20250430T173000
DTSTAMP:20260420T211228
CREATED:20250307T201331Z
LAST-MODIFIED:20250307T201331Z
UID:10011670-1746027000-1746034200@www.kiwassa.ca
SUMMARY:Youth Drop-in
DESCRIPTION:Contact Luisa for more info at 778-833-1485 or email youth.coordinator@kiwassa.ca
URL:https://www.kiwassa.ca/event/youth-drop-in-6/2025-04-30/
LOCATION:BC
CATEGORIES:Youth
END:VEVENT
BEGIN:VEVENT
DTSTART;TZID=America/Los_Angeles:20250430T103000
DTEND;TZID=America/Los_Angeles:20250430T123000
DTSTAMP:20260420T211228
CREATED:20250414T225623Z
LAST-MODIFIED:20250414T230335Z
UID:10011792-1746009000-1746016200@www.kiwassa.ca
SUMMARY:Nobody's Perfect (Arabic)
DESCRIPTION:For more information\, contact Anas AL Hassan at anasa@kiwassa.ca or 604 307 1400
URL:https://www.kiwassa.ca/event/nobodys-perfect-arabic/2025-04-30/
LOCATION:BC
CATEGORIES:Family Programs
END:VEVENT
BEGIN:VEVENT
DTSTART;TZID=America/Los_Angeles:20250430T100000
DTEND;TZID=America/Los_Angeles:20250430T130000
DTSTAMP:20260420T211228
CREATED:20250331T224300Z
LAST-MODIFIED:20250331T225200Z
UID:10011758-1746007200-1746018000@www.kiwassa.ca
SUMMARY:EMPOW3R Cohort 25
DESCRIPTION:For more information email Empow3r@kiwassa.ca or visit https://empow3r.ca/ 
URL:https://www.kiwassa.ca/event/empow3r-cohort-25/2025-04-30/
LOCATION:BC
CATEGORIES:Employment Support
END:VEVENT
BEGIN:VEVENT
DTSTART;TZID=America/Los_Angeles:20250430T093000
DTEND;TZID=America/Los_Angeles:20250430T120000
DTSTAMP:20260420T211228
CREATED:20250331T172211Z
LAST-MODIFIED:20250331T172211Z
UID:10011725-1746005400-1746014400@www.kiwassa.ca
SUMMARY:Family Place Activity
DESCRIPTION:
URL:https://www.kiwassa.ca/event/family-place-activity-12/2025-04-30/
LOCATION:BC
CATEGORIES:Family Programs
END:VEVENT
BEGIN:VEVENT
DTSTART;TZID=America/Los_Angeles:20250430T093000
DTEND;TZID=America/Los_Angeles:20250430T113000
DTSTAMP:20260420T211228
CREATED:20250414T231407Z
LAST-MODIFIED:20250414T231407Z
UID:10011811-1746005400-1746012600@www.kiwassa.ca
SUMMARY:Seniors Programs
DESCRIPTION:
URL:https://www.kiwassa.ca/event/seniors-programs-3/2025-04-30/
LOCATION:BC
CATEGORIES:Seniors
END:VEVENT
BEGIN:VEVENT
DTSTART;TZID=America/Los_Angeles:20250429T153000
DTEND;TZID=America/Los_Angeles:20250429T173000
DTSTAMP:20260420T211228
CREATED:20250307T201331Z
LAST-MODIFIED:20250307T201331Z
UID:10011669-1745940600-1745947800@www.kiwassa.ca
SUMMARY:Youth Drop-in
DESCRIPTION:Contact Luisa for more info at 778-833-1485 or email youth.coordinator@kiwassa.ca
URL:https://www.kiwassa.ca/event/youth-drop-in-6/2025-04-29/
LOCATION:BC
CATEGORIES:Youth
END:VEVENT
END:VCALENDAR