BEGIN:VCALENDAR
VERSION:2.0
PRODID:-//Kiwassa Neighbourhood House - ECPv6.15.20//NONSGML v1.0//EN
CALSCALE:GREGORIAN
METHOD:PUBLISH
X-ORIGINAL-URL:https://www.kiwassa.ca
X-WR-CALDESC:Events for Kiwassa Neighbourhood House
REFRESH-INTERVAL;VALUE=DURATION:PT1H
X-Robots-Tag:noindex
X-PUBLISHED-TTL:PT1H
BEGIN:VTIMEZONE
TZID:America/Los_Angeles
BEGIN:DAYLIGHT
TZOFFSETFROM:-0800
TZOFFSETTO:-0700
TZNAME:PDT
DTSTART:20240310T100000
END:DAYLIGHT
BEGIN:STANDARD
TZOFFSETFROM:-0700
TZOFFSETTO:-0800
TZNAME:PST
DTSTART:20241103T090000
END:STANDARD
BEGIN:DAYLIGHT
TZOFFSETFROM:-0800
TZOFFSETTO:-0700
TZNAME:PDT
DTSTART:20250309T100000
END:DAYLIGHT
BEGIN:STANDARD
TZOFFSETFROM:-0700
TZOFFSETTO:-0800
TZNAME:PST
DTSTART:20251102T090000
END:STANDARD
BEGIN:DAYLIGHT
TZOFFSETFROM:-0800
TZOFFSETTO:-0700
TZNAME:PDT
DTSTART:20260308T100000
END:DAYLIGHT
BEGIN:STANDARD
TZOFFSETFROM:-0700
TZOFFSETTO:-0800
TZNAME:PST
DTSTART:20261101T090000
END:STANDARD
END:VTIMEZONE
BEGIN:VEVENT
DTSTART;TZID=America/Los_Angeles:20251022T153000
DTEND;TZID=America/Los_Angeles:20251022T173000
DTSTAMP:20260424T123423
CREATED:20251006T064112Z
LAST-MODIFIED:20251006T064112Z
UID:10011843-1761147000-1761154200@www.kiwassa.ca
SUMMARY:Wednesday Youth Drop in
DESCRIPTION:
URL:https://www.kiwassa.ca/event/wednesday-youth-drop-in-3/
LOCATION:Kiwassa Neighbourhood House\, 2425 Oxford St\,\, Vancouver\, BC\, V5K 1M7\, Canada
CATEGORIES:Youth
ATTACH;FMTTYPE=image/png:https://www.kiwassa.ca/wp-content/uploads/2025/10/Youth-Drop-in-Thursday.png
GEO:49.2860309;-123.0555911
X-APPLE-STRUCTURED-LOCATION;VALUE=URI;X-ADDRESS=Kiwassa Neighbourhood House 2425 Oxford St Vancouver BC V5K 1M7 Canada;X-APPLE-RADIUS=500;X-TITLE=2425 Oxford St\,:geo:-123.0555911,49.2860309
END:VEVENT
END:VCALENDAR