BEGIN:VCALENDAR
VERSION:2.0
PRODID:-//Kiwassa Neighbourhood House - ECPv6.15.20//NONSGML v1.0//EN
CALSCALE:GREGORIAN
METHOD:PUBLISH
X-ORIGINAL-URL:https://www.kiwassa.ca
X-WR-CALDESC:Events for Kiwassa Neighbourhood House
REFRESH-INTERVAL;VALUE=DURATION:PT1H
X-Robots-Tag:noindex
X-PUBLISHED-TTL:PT1H
BEGIN:VTIMEZONE
TZID:America/Los_Angeles
BEGIN:DAYLIGHT
TZOFFSETFROM:-0800
TZOFFSETTO:-0700
TZNAME:PDT
DTSTART:20240310T100000
END:DAYLIGHT
BEGIN:STANDARD
TZOFFSETFROM:-0700
TZOFFSETTO:-0800
TZNAME:PST
DTSTART:20241103T090000
END:STANDARD
BEGIN:DAYLIGHT
TZOFFSETFROM:-0800
TZOFFSETTO:-0700
TZNAME:PDT
DTSTART:20250309T100000
END:DAYLIGHT
BEGIN:STANDARD
TZOFFSETFROM:-0700
TZOFFSETTO:-0800
TZNAME:PST
DTSTART:20251102T090000
END:STANDARD
BEGIN:DAYLIGHT
TZOFFSETFROM:-0800
TZOFFSETTO:-0700
TZNAME:PDT
DTSTART:20260308T100000
END:DAYLIGHT
BEGIN:STANDARD
TZOFFSETFROM:-0700
TZOFFSETTO:-0800
TZNAME:PST
DTSTART:20261101T090000
END:STANDARD
END:VTIMEZONE
BEGIN:VEVENT
DTSTART;TZID=America/Los_Angeles:20251007T153000
DTEND;TZID=America/Los_Angeles:20251007T173000
DTSTAMP:20260424T071055
CREATED:20251006T051625Z
LAST-MODIFIED:20251006T191229Z
UID:10011833-1759851000-1759858200@www.kiwassa.ca
SUMMARY:After School Game Day
DESCRIPTION:
URL:https://www.kiwassa.ca/event/after-school-game-day/
LOCATION:Kiwassa Neighbourhood House\, 2425 Oxford St\,\, Vancouver\, BC\, V5K 1M7\, Canada
CATEGORIES:Youth
ATTACH;FMTTYPE=image/png:https://www.kiwassa.ca/wp-content/uploads/2025/10/Youth-Drop-in-Tuesday.png
GEO:49.2860309;-123.0555911
X-APPLE-STRUCTURED-LOCATION;VALUE=URI;X-ADDRESS=Kiwassa Neighbourhood House 2425 Oxford St Vancouver BC V5K 1M7 Canada;X-APPLE-RADIUS=500;X-TITLE=2425 Oxford St\,:geo:-123.0555911,49.2860309
END:VEVENT
BEGIN:VEVENT
DTSTART;TZID=America/Los_Angeles:20251008T153000
DTEND;TZID=America/Los_Angeles:20251008T173000
DTSTAMP:20260424T071055
CREATED:20251006T063434Z
LAST-MODIFIED:20251006T063434Z
UID:10011841-1759937400-1759944600@www.kiwassa.ca
SUMMARY:Wednesday Youth Drop in
DESCRIPTION:
URL:https://www.kiwassa.ca/event/wednesday-youth-drop-in/
LOCATION:Kiwassa Neighbourhood House\, 2425 Oxford St\,\, Vancouver\, BC\, V5K 1M7\, Canada
CATEGORIES:Youth
ATTACH;FMTTYPE=image/png:https://www.kiwassa.ca/wp-content/uploads/2025/10/Youth-Drop-in-Thursday.png
GEO:49.2860309;-123.0555911
X-APPLE-STRUCTURED-LOCATION;VALUE=URI;X-ADDRESS=Kiwassa Neighbourhood House 2425 Oxford St Vancouver BC V5K 1M7 Canada;X-APPLE-RADIUS=500;X-TITLE=2425 Oxford St\,:geo:-123.0555911,49.2860309
END:VEVENT
BEGIN:VEVENT
DTSTART;TZID=America/Los_Angeles:20251009T153000
DTEND;TZID=America/Los_Angeles:20251009T173000
DTSTAMP:20260424T071055
CREATED:20251006T061853Z
LAST-MODIFIED:20251006T061853Z
UID:10011837-1760023800-1760031000@www.kiwassa.ca
SUMMARY:Kiwassa Youth Flavour Factory
DESCRIPTION:
URL:https://www.kiwassa.ca/event/kiwassa-youth-flavour-factory/
LOCATION:BC
CATEGORIES:Food,Youth
ATTACH;FMTTYPE=image/png:https://www.kiwassa.ca/wp-content/uploads/2025/10/Youth-Drop-in-Wednesday.png
END:VEVENT
BEGIN:VEVENT
DTSTART;TZID=America/Los_Angeles:20251014T153000
DTEND;TZID=America/Los_Angeles:20251014T173000
DTSTAMP:20260424T071055
CREATED:20251006T052959Z
LAST-MODIFIED:20251006T191332Z
UID:10011834-1760455800-1760463000@www.kiwassa.ca
SUMMARY:After School Game Day
DESCRIPTION:
URL:https://www.kiwassa.ca/event/after-school-game-day-2/
LOCATION:BC
CATEGORIES:Youth
ATTACH;FMTTYPE=image/png:https://www.kiwassa.ca/wp-content/uploads/2025/10/Youth-Drop-in-Tuesday.png
END:VEVENT
BEGIN:VEVENT
DTSTART;TZID=America/Los_Angeles:20251015T153000
DTEND;TZID=America/Los_Angeles:20251015T173000
DTSTAMP:20260424T071055
CREATED:20251006T063656Z
LAST-MODIFIED:20251006T063855Z
UID:10011842-1760542200-1760549400@www.kiwassa.ca
SUMMARY:Wednesday Youth Drop in
DESCRIPTION:
URL:https://www.kiwassa.ca/event/wednesday-youth-drop-in-2/
LOCATION:Kiwassa Neighbourhood House\, 2425 Oxford St\,\, Vancouver\, BC\, V5K 1M7\, Canada
CATEGORIES:Youth
ATTACH;FMTTYPE=image/png:https://www.kiwassa.ca/wp-content/uploads/2025/10/Youth-Drop-in-Thursday.png
GEO:49.2860309;-123.0555911
X-APPLE-STRUCTURED-LOCATION;VALUE=URI;X-ADDRESS=Kiwassa Neighbourhood House 2425 Oxford St Vancouver BC V5K 1M7 Canada;X-APPLE-RADIUS=500;X-TITLE=2425 Oxford St\,:geo:-123.0555911,49.2860309
END:VEVENT
BEGIN:VEVENT
DTSTART;TZID=America/Los_Angeles:20251016T153000
DTEND;TZID=America/Los_Angeles:20251016T173000
DTSTAMP:20260424T071055
CREATED:20251006T062429Z
LAST-MODIFIED:20251006T062429Z
UID:10011838-1760628600-1760635800@www.kiwassa.ca
SUMMARY:Kiwassa Youth Flavour Factory
DESCRIPTION:
URL:https://www.kiwassa.ca/event/kiwassa-youth-flavour-factory-2/
LOCATION:BC
CATEGORIES:Food,Youth
ATTACH;FMTTYPE=image/png:https://www.kiwassa.ca/wp-content/uploads/2025/10/Youth-Drop-in-Wednesday.png
END:VEVENT
BEGIN:VEVENT
DTSTART;TZID=America/Los_Angeles:20251021T153000
DTEND;TZID=America/Los_Angeles:20251021T173000
DTSTAMP:20260424T071055
CREATED:20251006T053606Z
LAST-MODIFIED:20251006T053606Z
UID:10011835-1761060600-1761067800@www.kiwassa.ca
SUMMARY:After School Game Day
DESCRIPTION:
URL:https://www.kiwassa.ca/event/after-school-game-day-3/
LOCATION:BC
CATEGORIES:Youth
ATTACH;FMTTYPE=image/png:https://www.kiwassa.ca/wp-content/uploads/2025/10/Youth-Drop-in-Tuesday.png
END:VEVENT
BEGIN:VEVENT
DTSTART;TZID=America/Los_Angeles:20251022T153000
DTEND;TZID=America/Los_Angeles:20251022T173000
DTSTAMP:20260424T071055
CREATED:20251006T064112Z
LAST-MODIFIED:20251006T064112Z
UID:10011843-1761147000-1761154200@www.kiwassa.ca
SUMMARY:Wednesday Youth Drop in
DESCRIPTION:
URL:https://www.kiwassa.ca/event/wednesday-youth-drop-in-3/
LOCATION:Kiwassa Neighbourhood House\, 2425 Oxford St\,\, Vancouver\, BC\, V5K 1M7\, Canada
CATEGORIES:Youth
ATTACH;FMTTYPE=image/png:https://www.kiwassa.ca/wp-content/uploads/2025/10/Youth-Drop-in-Thursday.png
GEO:49.2860309;-123.0555911
X-APPLE-STRUCTURED-LOCATION;VALUE=URI;X-ADDRESS=Kiwassa Neighbourhood House 2425 Oxford St Vancouver BC V5K 1M7 Canada;X-APPLE-RADIUS=500;X-TITLE=2425 Oxford St\,:geo:-123.0555911,49.2860309
END:VEVENT
BEGIN:VEVENT
DTSTART;TZID=America/Los_Angeles:20251023T153000
DTEND;TZID=America/Los_Angeles:20251023T173000
DTSTAMP:20260424T071055
CREATED:20251006T062711Z
LAST-MODIFIED:20251006T062806Z
UID:10011839-1761233400-1761240600@www.kiwassa.ca
SUMMARY:Kiwassa Youth Flavour Factory
DESCRIPTION:
URL:https://www.kiwassa.ca/event/kiwassa-youth-flavour-factory-3/
LOCATION:BC
CATEGORIES:Food,Youth
ATTACH;FMTTYPE=image/png:https://www.kiwassa.ca/wp-content/uploads/2025/10/Youth-Drop-in-Wednesday.png
END:VEVENT
BEGIN:VEVENT
DTSTART;TZID=America/Los_Angeles:20251028T153000
DTEND;TZID=America/Los_Angeles:20251028T173000
DTSTAMP:20260424T071055
CREATED:20251006T054058Z
LAST-MODIFIED:20251006T054058Z
UID:10011836-1761665400-1761672600@www.kiwassa.ca
SUMMARY:After School Game Day
DESCRIPTION:
URL:https://www.kiwassa.ca/event/after-school-game-day-4/
LOCATION:BC
CATEGORIES:Youth
ATTACH;FMTTYPE=image/png:https://www.kiwassa.ca/wp-content/uploads/2025/10/Youth-Drop-in-Tuesday.png
END:VEVENT
BEGIN:VEVENT
DTSTART;TZID=America/Los_Angeles:20251029T153000
DTEND;TZID=America/Los_Angeles:20251029T173000
DTSTAMP:20260424T071055
CREATED:20251006T064240Z
LAST-MODIFIED:20251006T064240Z
UID:10011844-1761751800-1761759000@www.kiwassa.ca
SUMMARY:Wednesday Youth Drop in
DESCRIPTION:
URL:https://www.kiwassa.ca/event/wednesday-youth-drop-in-4/
LOCATION:BC
CATEGORIES:Youth
ATTACH;FMTTYPE=image/png:https://www.kiwassa.ca/wp-content/uploads/2025/10/Youth-Drop-in-Thursday.png
END:VEVENT
BEGIN:VEVENT
DTSTART;TZID=America/Los_Angeles:20251030T153000
DTEND;TZID=America/Los_Angeles:20251030T173000
DTSTAMP:20260424T071055
CREATED:20251006T063003Z
LAST-MODIFIED:20251006T063003Z
UID:10011840-1761838200-1761845400@www.kiwassa.ca
SUMMARY:Kiwassa Youth Flavour Factory
DESCRIPTION:
URL:https://www.kiwassa.ca/event/kiwassa-youth-flavour-factory-4/
LOCATION:BC
CATEGORIES:Food,Youth
ATTACH;FMTTYPE=image/png:https://www.kiwassa.ca/wp-content/uploads/2025/10/Youth-Drop-in-Wednesday.png
END:VEVENT
END:VCALENDAR