BEGIN:VCALENDAR
VERSION:2.0
PRODID:-//Kiwassa Neighbourhood House - ECPv6.15.20//NONSGML v1.0//EN
CALSCALE:GREGORIAN
METHOD:PUBLISH
X-ORIGINAL-URL:https://www.kiwassa.ca
X-WR-CALDESC:Events for Kiwassa Neighbourhood House
REFRESH-INTERVAL;VALUE=DURATION:PT1H
X-Robots-Tag:noindex
X-PUBLISHED-TTL:PT1H
BEGIN:VTIMEZONE
TZID:America/Los_Angeles
BEGIN:DAYLIGHT
TZOFFSETFROM:-0800
TZOFFSETTO:-0700
TZNAME:PDT
DTSTART:20240310T100000
END:DAYLIGHT
BEGIN:STANDARD
TZOFFSETFROM:-0700
TZOFFSETTO:-0800
TZNAME:PST
DTSTART:20241103T090000
END:STANDARD
BEGIN:DAYLIGHT
TZOFFSETFROM:-0800
TZOFFSETTO:-0700
TZNAME:PDT
DTSTART:20250309T100000
END:DAYLIGHT
BEGIN:STANDARD
TZOFFSETFROM:-0700
TZOFFSETTO:-0800
TZNAME:PST
DTSTART:20251102T090000
END:STANDARD
BEGIN:DAYLIGHT
TZOFFSETFROM:-0800
TZOFFSETTO:-0700
TZNAME:PDT
DTSTART:20260308T100000
END:DAYLIGHT
BEGIN:STANDARD
TZOFFSETFROM:-0700
TZOFFSETTO:-0800
TZNAME:PST
DTSTART:20261101T090000
END:STANDARD
BEGIN:DAYLIGHT
TZOFFSETFROM:-0800
TZOFFSETTO:-0700
TZNAME:PDT
DTSTART:20270314T100000
END:DAYLIGHT
BEGIN:STANDARD
TZOFFSETFROM:-0700
TZOFFSETTO:-0800
TZNAME:PST
DTSTART:20271107T090000
END:STANDARD
END:VTIMEZONE
BEGIN:VEVENT
DTSTART;TZID=America/Los_Angeles:20260316T100000
DTEND;TZID=America/Los_Angeles:20260316T113000
DTSTAMP:20260420T193337
CREATED:20260225T210437Z
LAST-MODIFIED:20260225T210437Z
UID:10012118-1773655200-1773660600@www.kiwassa.ca
SUMMARY:Sleep Apnea Workshop
DESCRIPTION:Join us for a Sleep Apnea Workshop on March 16\, 2026\, from 10:00–11:30 AM at Kiwassa Neighbourhood House with Guest Speaker Stephanie Fan\, Enrolled Nurse in Hong Kong. This informative session will help participants understand what sleep apnea is\, recognize the signs and symptoms\, identify risk factors\, explore treatment options\, and learn where to seek support. Everyone is welcome. \n\nUnderstand what sleep apnea is\nRecognize signs and symptoms\nKnow risk factors\nLearn treatment options\nKnow where to seek help\n\nTo register\, contact Matineh at matineha@kiwassa.ca or\n604-307-5034. \n \n \n 
URL:https://www.kiwassa.ca/event/sleep-apnea-workshop/
LOCATION:Kiwassa Neighbourhood House\, 2425 Oxford St\,\, Vancouver\, BC\, V5K 1M7\, Canada
CATEGORIES:Seniors
ATTACH;FMTTYPE=image/png:https://www.kiwassa.ca/wp-content/uploads/2026/02/Sleep-Apnea-Poster-English-March-16.png
GEO:49.2860309;-123.0555911
X-APPLE-STRUCTURED-LOCATION;VALUE=URI;X-ADDRESS=Kiwassa Neighbourhood House 2425 Oxford St Vancouver BC V5K 1M7 Canada;X-APPLE-RADIUS=500;X-TITLE=2425 Oxford St\,:geo:-123.0555911,49.2860309
END:VEVENT
BEGIN:VEVENT
DTSTART;TZID=America/Los_Angeles:20260220T120000
DTEND;TZID=America/Los_Angeles:20260220T150000
DTSTAMP:20260420T193337
CREATED:20260126T231029Z
LAST-MODIFIED:20260126T231029Z
UID:10012065-1771588800-1771599600@www.kiwassa.ca
SUMMARY:Lunar New Year Lunch Celebration
DESCRIPTION:Enjoy a delicious lunch\, fun games\, entertaining performances including a lion dance\, exciting lucky draw\, and lots of laughter and celebration! \nWho: For older adults aged 50+\nCost: $7 per person (except TAPS participants)\nRegister: matineha@kiwassa.ca or 604-307-5034
URL:https://www.kiwassa.ca/event/lunar-new-year-lunch-celebration/
LOCATION:Kiwassa Neighbourhood House\, 2425 Oxford St\,\, Vancouver\, BC\, V5K 1M7\, Canada
CATEGORIES:Seniors
ATTACH;FMTTYPE=image/png:https://www.kiwassa.ca/wp-content/uploads/2026/01/Lunar-New-Year-Feb-20-2026-Poster-English.png
GEO:49.2860309;-123.0555911
X-APPLE-STRUCTURED-LOCATION;VALUE=URI;X-ADDRESS=Kiwassa Neighbourhood House 2425 Oxford St Vancouver BC V5K 1M7 Canada;X-APPLE-RADIUS=500;X-TITLE=2425 Oxford St\,:geo:-123.0555911,49.2860309
END:VEVENT
BEGIN:VEVENT
DTSTART;TZID=America/Los_Angeles:20260209T130000
DTEND;TZID=America/Los_Angeles:20260209T150000
DTSTAMP:20260420T193337
CREATED:20260126T230340Z
LAST-MODIFIED:20260126T231141Z
UID:10012064-1770642000-1770649200@www.kiwassa.ca
SUMMARY:Stroke and Dementia Workshop
DESCRIPTION:Join us for an informative Stroke & Dementia Workshop led by Neurologist Dr. Dominic Tse. Learn what stroke and dementia are\, how to recognize early signs\, and ways to keep your brain healthy as you age. \nTo register:\nmatineha@kiwassa.ca\n604-307-5034
URL:https://www.kiwassa.ca/event/stroke-and-dementia-workshop/
LOCATION:Kiwassa Neighbourhood House\, 2425 Oxford St\,\, Vancouver\, BC\, V5K 1M7\, Canada
CATEGORIES:Seniors
ATTACH;FMTTYPE=image/png:https://www.kiwassa.ca/wp-content/uploads/2026/01/Stroke-Dementia-Feb-9-2026-Workshop-English.png
GEO:49.2860309;-123.0555911
X-APPLE-STRUCTURED-LOCATION;VALUE=URI;X-ADDRESS=Kiwassa Neighbourhood House 2425 Oxford St Vancouver BC V5K 1M7 Canada;X-APPLE-RADIUS=500;X-TITLE=2425 Oxford St\,:geo:-123.0555911,49.2860309
END:VEVENT
BEGIN:VEVENT
DTSTART;TZID=America/Los_Angeles:20251210T113000
DTEND;TZID=America/Los_Angeles:20251210T143000
DTSTAMP:20260420T193337
CREATED:20251006T175923Z
LAST-MODIFIED:20251006T175923Z
UID:10011862-1765366200-1765377000@www.kiwassa.ca
SUMMARY:TAPS at Chimo
DESCRIPTION:
URL:https://www.kiwassa.ca/event/taps-at-chimo/
LOCATION:BC
CATEGORIES:Seniors
ATTACH;FMTTYPE=image/jpeg:https://www.kiwassa.ca/wp-content/uploads/2025/10/Seniors-October-Calendar-1.jpg
END:VEVENT
BEGIN:VEVENT
DTSTART;TZID=America/Los_Angeles:20251127T120000
DTEND;TZID=America/Los_Angeles:20251127T133000
DTSTAMP:20260420T193337
CREATED:20251107T003553Z
LAST-MODIFIED:20251107T003553Z
UID:10011913-1764244800-1764250200@www.kiwassa.ca
SUMMARY:Seniors — Beginners & Intermediate ESL Class
DESCRIPTION:
URL:https://www.kiwassa.ca/event/seniors-beginners-intermediate-esl-class-3/
LOCATION:BC
CATEGORIES:Seniors
ATTACH;FMTTYPE=image/png:https://www.kiwassa.ca/wp-content/uploads/2025/11/Seniors-Nov-Calendar-English.png
END:VEVENT
BEGIN:VEVENT
DTSTART;TZID=America/Los_Angeles:20251126T093000
DTEND;TZID=America/Los_Angeles:20251126T113000
DTSTAMP:20260420T193337
CREATED:20251107T002901Z
LAST-MODIFIED:20251107T002901Z
UID:10011910-1764149400-1764156600@www.kiwassa.ca
SUMMARY:Seniors — Advanced ESL
DESCRIPTION:
URL:https://www.kiwassa.ca/event/seniors-advanced-esl-7/
LOCATION:BC
CATEGORIES:Seniors
ATTACH;FMTTYPE=image/png:https://www.kiwassa.ca/wp-content/uploads/2025/11/Seniors-Nov-Calendar-English.png
END:VEVENT
BEGIN:VEVENT
DTSTART;TZID=America/Los_Angeles:20251125T113000
DTEND;TZID=America/Los_Angeles:20251125T143000
DTSTAMP:20260420T193337
CREATED:20251107T000112Z
LAST-MODIFIED:20251107T000112Z
UID:10011904-1764070200-1764081000@www.kiwassa.ca
SUMMARY:Seniors — TAPS at Chimo
DESCRIPTION:
URL:https://www.kiwassa.ca/event/seniors-taps-at-chimo-3/
LOCATION:BC
CATEGORIES:Seniors
ATTACH;FMTTYPE=image/png:https://www.kiwassa.ca/wp-content/uploads/2025/11/Seniors-Nov-Calendar-English.png
END:VEVENT
BEGIN:VEVENT
DTSTART;TZID=America/Los_Angeles:20251125T100000
DTEND;TZID=America/Los_Angeles:20251125T110000
DTSTAMP:20260420T193337
CREATED:20251106T233825Z
LAST-MODIFIED:20251106T233825Z
UID:10011899-1764064800-1764068400@www.kiwassa.ca
SUMMARY:Seniors — Qi Gong Morning Exercise Class
DESCRIPTION:
URL:https://www.kiwassa.ca/event/seniors-qi-gong-morning-exercise-class-5/
LOCATION:BC
CATEGORIES:Seniors
ATTACH;FMTTYPE=image/png:https://www.kiwassa.ca/wp-content/uploads/2025/11/Seniors-Nov-Calendar-English.png
END:VEVENT
BEGIN:VEVENT
DTSTART;TZID=America/Los_Angeles:20251124T110000
DTEND;TZID=America/Los_Angeles:20251124T140000
DTSTAMP:20260420T193337
CREATED:20251106T232428Z
LAST-MODIFIED:20251106T232428Z
UID:10011898-1763982000-1763992800@www.kiwassa.ca
SUMMARY:Seniors — Holiday Craft Sale
DESCRIPTION:
URL:https://www.kiwassa.ca/event/seniors-holiday-craft-sale/
LOCATION:BC
CATEGORIES:Seniors
ATTACH;FMTTYPE=image/png:https://www.kiwassa.ca/wp-content/uploads/2025/11/Seniors-Nov-Newsletter-English.png
END:VEVENT
BEGIN:VEVENT
DTSTART;TZID=America/Los_Angeles:20251124T103000
DTEND;TZID=America/Los_Angeles:20251124T123000
DTSTAMP:20260420T193337
CREATED:20251106T224101Z
LAST-MODIFIED:20251106T224101Z
UID:10011893-1763980200-1763987400@www.kiwassa.ca
SUMMARY:Seniors — Line Dance with Agnes & May
DESCRIPTION:
URL:https://www.kiwassa.ca/event/seniors-line-dance-with-agnes-may-3/
LOCATION:Kiwassa Neighbourhood House\, 2425 Oxford St\,\, Vancouver\, BC\, V5K 1M7\, Canada
CATEGORIES:Seniors
ATTACH;FMTTYPE=image/png:https://www.kiwassa.ca/wp-content/uploads/2025/11/Seniors-Nov-Calendar-English.png
GEO:49.2860309;-123.0555911
X-APPLE-STRUCTURED-LOCATION;VALUE=URI;X-ADDRESS=Kiwassa Neighbourhood House 2425 Oxford St Vancouver BC V5K 1M7 Canada;X-APPLE-RADIUS=500;X-TITLE=2425 Oxford St\,:geo:-123.0555911,49.2860309
END:VEVENT
BEGIN:VEVENT
DTSTART;TZID=America/Los_Angeles:20251121T120000
DTEND;TZID=America/Los_Angeles:20251121T140000
DTSTAMP:20260420T193337
CREATED:20251106T222911Z
LAST-MODIFIED:20251106T222911Z
UID:10011890-1763726400-1763733600@www.kiwassa.ca
SUMMARY:Seniors — Community Lunch & Bingo
DESCRIPTION:
URL:https://www.kiwassa.ca/event/seniors-community-lunch-bingo-3/
LOCATION:Kiwassa Neighbourhood House\, 2425 Oxford St\,\, Vancouver\, BC\, V5K 1M7\, Canada
CATEGORIES:Food,Seniors
ATTACH;FMTTYPE=image/png:https://www.kiwassa.ca/wp-content/uploads/2025/11/Seniors-Nov-Calendar-English.png
GEO:49.2860309;-123.0555911
X-APPLE-STRUCTURED-LOCATION;VALUE=URI;X-ADDRESS=Kiwassa Neighbourhood House 2425 Oxford St Vancouver BC V5K 1M7 Canada;X-APPLE-RADIUS=500;X-TITLE=2425 Oxford St\,:geo:-123.0555911,49.2860309
END:VEVENT
BEGIN:VEVENT
DTSTART;TZID=America/Los_Angeles:20251120T120000
DTEND;TZID=America/Los_Angeles:20251120T133000
DTSTAMP:20260420T193337
CREATED:20251107T003417Z
LAST-MODIFIED:20251107T003417Z
UID:10011912-1763640000-1763645400@www.kiwassa.ca
SUMMARY:Seniors — Beginners & Intermediate ESL Class
DESCRIPTION:
URL:https://www.kiwassa.ca/event/seniors-beginners-intermediate-esl-class-2/
LOCATION:BC
CATEGORIES:Seniors
ATTACH;FMTTYPE=image/png:https://www.kiwassa.ca/wp-content/uploads/2025/11/Seniors-Nov-Calendar-English.png
END:VEVENT
BEGIN:VEVENT
DTSTART;TZID=America/Los_Angeles:20251119T093000
DTEND;TZID=America/Los_Angeles:20251119T113000
DTSTAMP:20260420T193337
CREATED:20251107T000922Z
LAST-MODIFIED:20251107T000922Z
UID:10011906-1763544600-1763551800@www.kiwassa.ca
SUMMARY:Seniors — Advanced ESL
DESCRIPTION:
URL:https://www.kiwassa.ca/event/seniors-advanced-esl-6/
LOCATION:BC
CATEGORIES:Seniors
ATTACH;FMTTYPE=image/png:https://www.kiwassa.ca/wp-content/uploads/2025/11/Seniors-Nov-Calendar-English.png
END:VEVENT
BEGIN:VEVENT
DTSTART;TZID=America/Los_Angeles:20251118T120000
DTEND;TZID=America/Los_Angeles:20251118T140000
DTSTAMP:20260420T193337
CREATED:20251106T235640Z
LAST-MODIFIED:20251106T235640Z
UID:10011903-1763467200-1763474400@www.kiwassa.ca
SUMMARY:Seniors — Painting Class
DESCRIPTION:
URL:https://www.kiwassa.ca/event/seniors-painting-class-4/
LOCATION:BC
CATEGORIES:Seniors
ATTACH;FMTTYPE=image/png:https://www.kiwassa.ca/wp-content/uploads/2025/11/Seniors-Nov-Calendar-English.png
END:VEVENT
BEGIN:VEVENT
DTSTART;TZID=America/Los_Angeles:20251118T110000
DTEND;TZID=America/Los_Angeles:20251118T120000
DTSTAMP:20260420T193337
CREATED:20251106T234958Z
LAST-MODIFIED:20251106T234958Z
UID:10011902-1763463600-1763467200@www.kiwassa.ca
SUMMARY:Seniors — Social Meal
DESCRIPTION:
URL:https://www.kiwassa.ca/event/seniors-social-meal-2/
LOCATION:BC
CATEGORIES:Food,Seniors
ATTACH;FMTTYPE=image/png:https://www.kiwassa.ca/wp-content/uploads/2025/11/Seniors-Nov-Calendar-English.png
END:VEVENT
BEGIN:VEVENT
DTSTART;TZID=America/Los_Angeles:20251118T103000
DTEND;TZID=America/Los_Angeles:20251118T113000
DTSTAMP:20260420T193337
CREATED:20251106T234346Z
LAST-MODIFIED:20251106T234346Z
UID:10011900-1763461800-1763465400@www.kiwassa.ca
SUMMARY:Seniors — Blood Check
DESCRIPTION:
URL:https://www.kiwassa.ca/event/seniors-blood-check-2/
LOCATION:BC
CATEGORIES:Seniors
ATTACH;FMTTYPE=image/png:https://www.kiwassa.ca/wp-content/uploads/2025/11/Seniors-Nov-Calendar-English.png
END:VEVENT
BEGIN:VEVENT
DTSTART;TZID=America/Los_Angeles:20251118T100000
DTEND;TZID=America/Los_Angeles:20251118T110000
DTSTAMP:20260420T193337
CREATED:20251106T234709Z
LAST-MODIFIED:20251106T234709Z
UID:10011901-1763460000-1763463600@www.kiwassa.ca
SUMMARY:Seniors — Chair Exercise Class
DESCRIPTION:
URL:https://www.kiwassa.ca/event/seniors-chair-exercise-class-3/
LOCATION:BC
CATEGORIES:Seniors
ATTACH;FMTTYPE=image/png:https://www.kiwassa.ca/wp-content/uploads/2025/11/Seniors-Nov-Calendar-English.png
END:VEVENT
BEGIN:VEVENT
DTSTART;TZID=America/Los_Angeles:20251117T133000
DTEND;TZID=America/Los_Angeles:20251117T143000
DTSTAMP:20260420T193337
CREATED:20251106T232104Z
LAST-MODIFIED:20251106T232104Z
UID:10011897-1763386200-1763389800@www.kiwassa.ca
SUMMARY:Seniors — Health Workshop
DESCRIPTION:
URL:https://www.kiwassa.ca/event/seniors-health-workshop/
LOCATION:BC
CATEGORIES:Seniors
ATTACH;FMTTYPE=image/png:https://www.kiwassa.ca/wp-content/uploads/2025/11/Seniors-Nov-Calendar-English.png
END:VEVENT
BEGIN:VEVENT
DTSTART;TZID=America/Los_Angeles:20251117T103000
DTEND;TZID=America/Los_Angeles:20251117T123000
DTSTAMP:20260420T193337
CREATED:20251106T223828Z
LAST-MODIFIED:20251107T004847Z
UID:10011892-1763375400-1763382600@www.kiwassa.ca
SUMMARY:Seniors — Line Dance with Agnes & May
DESCRIPTION:
URL:https://www.kiwassa.ca/event/seniors-line-dance-with-agnes-may-2/
LOCATION:Kiwassa Neighbourhood House\, 2425 Oxford St\,\, Vancouver\, BC\, V5K 1M7\, Canada
CATEGORIES:Seniors
ATTACH;FMTTYPE=image/png:https://www.kiwassa.ca/wp-content/uploads/2025/11/Seniors-Nov-Calendar-English.png
GEO:49.2860309;-123.0555911
X-APPLE-STRUCTURED-LOCATION;VALUE=URI;X-ADDRESS=Kiwassa Neighbourhood House 2425 Oxford St Vancouver BC V5K 1M7 Canada;X-APPLE-RADIUS=500;X-TITLE=2425 Oxford St\,:geo:-123.0555911,49.2860309
END:VEVENT
BEGIN:VEVENT
DTSTART;TZID=America/Los_Angeles:20251113T120000
DTEND;TZID=America/Los_Angeles:20251113T133000
DTSTAMP:20260420T193337
CREATED:20251107T003200Z
LAST-MODIFIED:20251107T003200Z
UID:10011911-1763035200-1763040600@www.kiwassa.ca
SUMMARY:Seniors — Beginners & Intermediate ESL Class
DESCRIPTION:
URL:https://www.kiwassa.ca/event/seniors-beginners-intermediate-esl-class/
LOCATION:BC
CATEGORIES:Seniors
ATTACH;FMTTYPE=image/png:https://www.kiwassa.ca/wp-content/uploads/2025/11/Seniors-Nov-Calendar-English.png
END:VEVENT
BEGIN:VEVENT
DTSTART;TZID=America/Los_Angeles:20251113T103000
DTEND;TZID=America/Los_Angeles:20251113T123000
DTSTAMP:20260420T193337
CREATED:20251107T004353Z
LAST-MODIFIED:20251107T004353Z
UID:10011914-1763029800-1763037000@www.kiwassa.ca
SUMMARY:Seniors — Line Dance with Cindy (Full)
DESCRIPTION:
URL:https://www.kiwassa.ca/event/seniors-line-dance-with-cindy-full-2/
LOCATION:BC
CATEGORIES:Seniors
ATTACH;FMTTYPE=image/png:https://www.kiwassa.ca/wp-content/uploads/2025/11/Seniors-Nov-Calendar-English.png
END:VEVENT
BEGIN:VEVENT
DTSTART;TZID=America/Los_Angeles:20251112T093000
DTEND;TZID=America/Los_Angeles:20251112T113000
DTSTAMP:20260420T193337
CREATED:20251107T000532Z
LAST-MODIFIED:20251107T000532Z
UID:10011905-1762939800-1762947000@www.kiwassa.ca
SUMMARY:Seniors — Advanced ESL
DESCRIPTION:
URL:https://www.kiwassa.ca/event/seniors-advanced-esl-5/
LOCATION:BC
CATEGORIES:Seniors
ATTACH;FMTTYPE=image/png:https://www.kiwassa.ca/wp-content/uploads/2025/11/Seniors-Nov-Calendar-English.png
END:VEVENT
BEGIN:VEVENT
DTSTART;TZID=America/Los_Angeles:20251110T120000
DTEND;TZID=America/Los_Angeles:20251110T140000
DTSTAMP:20260420T193337
CREATED:20251106T231232Z
LAST-MODIFIED:20251106T231232Z
UID:10011894-1762776000-1762783200@www.kiwassa.ca
SUMMARY:Seniors — Fundraising & Gathering
DESCRIPTION:
URL:https://www.kiwassa.ca/event/seniors-fundraising-gathering-2/
LOCATION:BC
CATEGORIES:Seniors
ATTACH;FMTTYPE=image/png:https://www.kiwassa.ca/wp-content/uploads/2025/11/Seniors-Nov-Calendar-English.png
END:VEVENT
BEGIN:VEVENT
DTSTART;TZID=America/Los_Angeles:20251110T103000
DTEND;TZID=America/Los_Angeles:20251110T123000
DTSTAMP:20260420T193337
CREATED:20251106T231942Z
LAST-MODIFIED:20251106T231942Z
UID:10011896-1762770600-1762777800@www.kiwassa.ca
SUMMARY:Seniors — Blood Check
DESCRIPTION:
URL:https://www.kiwassa.ca/event/seniors-blood-check/
LOCATION:BC
CATEGORIES:Seniors
ATTACH;FMTTYPE=image/png:https://www.kiwassa.ca/wp-content/uploads/2025/11/Seniors-Nov-Calendar-English.png
END:VEVENT
BEGIN:VEVENT
DTSTART;TZID=America/Los_Angeles:20251110T103000
DTEND;TZID=America/Los_Angeles:20251110T123000
DTSTAMP:20260420T193337
CREATED:20251106T223404Z
LAST-MODIFIED:20251106T223404Z
UID:10011891-1762770600-1762777800@www.kiwassa.ca
SUMMARY:Seniors — Line Dance with Agnes & May
DESCRIPTION:
URL:https://www.kiwassa.ca/event/seniors-line-dance-with-agnes-may/
LOCATION:Kiwassa Neighbourhood House\, 2425 Oxford St\,\, Vancouver\, BC\, V5K 1M7\, Canada
CATEGORIES:Seniors
ATTACH;FMTTYPE=image/png:https://www.kiwassa.ca/wp-content/uploads/2025/11/Seniors-Nov-Calendar-English.png
GEO:49.2860309;-123.0555911
X-APPLE-STRUCTURED-LOCATION;VALUE=URI;X-ADDRESS=Kiwassa Neighbourhood House 2425 Oxford St Vancouver BC V5K 1M7 Canada;X-APPLE-RADIUS=500;X-TITLE=2425 Oxford St\,:geo:-123.0555911,49.2860309
END:VEVENT
BEGIN:VEVENT
DTSTART;TZID=America/Los_Angeles:20251107T120000
DTEND;TZID=America/Los_Angeles:20251107T140000
DTSTAMP:20260420T193337
CREATED:20251106T222604Z
LAST-MODIFIED:20251106T222604Z
UID:10011889-1762516800-1762524000@www.kiwassa.ca
SUMMARY:Seniors — Community Lunch & Bingo
DESCRIPTION:
URL:https://www.kiwassa.ca/event/seniors-community-lunch-bingo-2/
LOCATION:Kiwassa Neighbourhood House\, 2425 Oxford St\,\, Vancouver\, BC\, V5K 1M7\, Canada
CATEGORIES:Community,Food,Seniors
ATTACH;FMTTYPE=image/png:https://www.kiwassa.ca/wp-content/uploads/2025/11/Seniors-Nov-Calendar-English.png
GEO:49.2860309;-123.0555911
X-APPLE-STRUCTURED-LOCATION;VALUE=URI;X-ADDRESS=Kiwassa Neighbourhood House 2425 Oxford St Vancouver BC V5K 1M7 Canada;X-APPLE-RADIUS=500;X-TITLE=2425 Oxford St\,:geo:-123.0555911,49.2860309
END:VEVENT
BEGIN:VEVENT
DTSTART;TZID=America/Los_Angeles:20251029T093000
DTEND;TZID=America/Los_Angeles:20251029T113000
DTSTAMP:20260420T193337
CREATED:20251006T173329Z
LAST-MODIFIED:20251006T173329Z
UID:10011859-1761730200-1761737400@www.kiwassa.ca
SUMMARY:Advanced ESL
DESCRIPTION:
URL:https://www.kiwassa.ca/event/advanced-esl-4/
LOCATION:Kiwassa Neighbourhood House\, 2425 Oxford St\,\, Vancouver\, BC\, V5K 1M7\, Canada
CATEGORIES:Seniors
ATTACH;FMTTYPE=image/jpeg:https://www.kiwassa.ca/wp-content/uploads/2025/10/Seniors-October-Calendar-1.jpg
GEO:49.2860309;-123.0555911
X-APPLE-STRUCTURED-LOCATION;VALUE=URI;X-ADDRESS=Kiwassa Neighbourhood House 2425 Oxford St Vancouver BC V5K 1M7 Canada;X-APPLE-RADIUS=500;X-TITLE=2425 Oxford St\,:geo:-123.0555911,49.2860309
END:VEVENT
BEGIN:VEVENT
DTSTART;TZID=America/Los_Angeles:20251028T113000
DTEND;TZID=America/Los_Angeles:20251028T143000
DTSTAMP:20260420T193337
CREATED:20251007T014115Z
LAST-MODIFIED:20251007T014115Z
UID:10011887-1761651000-1761661800@www.kiwassa.ca
SUMMARY:TAPS at Chimo
DESCRIPTION:Registered TAPS participants from Kiwassa can also join the residents at Chimo Terrace. Pre-registration required.
URL:https://www.kiwassa.ca/event/taps-at-chimo-3/
LOCATION:Chimo Terrace\, Wall Street\, Vancouver\, British Columbia\, V5L 1B2\, Canada
CATEGORIES:Seniors
GEO:49.2864563;-123.0613623
X-APPLE-STRUCTURED-LOCATION;VALUE=URI;X-ADDRESS=Chimo Terrace Wall Street Vancouver British Columbia V5L 1B2 Canada;X-APPLE-RADIUS=500;X-TITLE=Wall Street:geo:-123.0613623,49.2864563
END:VEVENT
BEGIN:VEVENT
DTSTART;TZID=America/Los_Angeles:20251028T100000
DTEND;TZID=America/Los_Angeles:20251028T110000
DTSTAMP:20260420T193337
CREATED:20251006T171802Z
LAST-MODIFIED:20251006T192114Z
UID:10011855-1761645600-1761649200@www.kiwassa.ca
SUMMARY:Qi Gong & Morning Exercise Class
DESCRIPTION:Join us online or in-person.
URL:https://www.kiwassa.ca/event/qi-gong-morning-exercise-class-3/
LOCATION:Kiwassa Neighbourhood House\, 2425 Oxford St\,\, Vancouver\, BC\, V5K 1M7\, Canada
CATEGORIES:Seniors
ATTACH;FMTTYPE=image/jpeg:https://www.kiwassa.ca/wp-content/uploads/2025/10/Seniors-October-Calendar-1.jpg
GEO:49.2860309;-123.0555911
X-APPLE-STRUCTURED-LOCATION;VALUE=URI;X-ADDRESS=Kiwassa Neighbourhood House 2425 Oxford St Vancouver BC V5K 1M7 Canada;X-APPLE-RADIUS=500;X-TITLE=2425 Oxford St\,:geo:-123.0555911,49.2860309
END:VEVENT
BEGIN:VEVENT
DTSTART;TZID=America/Los_Angeles:20251027T120000
DTEND;TZID=America/Los_Angeles:20251027T140000
DTSTAMP:20260420T193337
CREATED:20251006T175014Z
LAST-MODIFIED:20251006T175257Z
UID:10011861-1761566400-1761573600@www.kiwassa.ca
SUMMARY:Fundraising & Gathering
DESCRIPTION:
URL:https://www.kiwassa.ca/event/fundraising-gathering-2/
LOCATION:Kiwassa Neighbourhood House\, 2425 Oxford St\,\, Vancouver\, BC\, V5K 1M7\, Canada
CATEGORIES:Seniors
ATTACH;FMTTYPE=image/jpeg:https://www.kiwassa.ca/wp-content/uploads/2025/10/Seniors-October-Calendar-1.jpg
GEO:49.2860309;-123.0555911
X-APPLE-STRUCTURED-LOCATION;VALUE=URI;X-ADDRESS=Kiwassa Neighbourhood House 2425 Oxford St Vancouver BC V5K 1M7 Canada;X-APPLE-RADIUS=500;X-TITLE=2425 Oxford St\,:geo:-123.0555911,49.2860309
END:VEVENT
END:VCALENDAR