BEGIN:VCALENDAR
VERSION:2.0
PRODID:-//Kiwassa Neighbourhood House - ECPv6.15.20//NONSGML v1.0//EN
CALSCALE:GREGORIAN
METHOD:PUBLISH
X-ORIGINAL-URL:https://www.kiwassa.ca
X-WR-CALDESC:Events for Kiwassa Neighbourhood House
REFRESH-INTERVAL;VALUE=DURATION:PT1H
X-Robots-Tag:noindex
X-PUBLISHED-TTL:PT1H
BEGIN:VTIMEZONE
TZID:America/Los_Angeles
BEGIN:DAYLIGHT
TZOFFSETFROM:-0800
TZOFFSETTO:-0700
TZNAME:PDT
DTSTART:20250309T100000
END:DAYLIGHT
BEGIN:STANDARD
TZOFFSETFROM:-0700
TZOFFSETTO:-0800
TZNAME:PST
DTSTART:20251102T090000
END:STANDARD
BEGIN:DAYLIGHT
TZOFFSETFROM:-0800
TZOFFSETTO:-0700
TZNAME:PDT
DTSTART:20260308T100000
END:DAYLIGHT
BEGIN:STANDARD
TZOFFSETFROM:-0700
TZOFFSETTO:-0800
TZNAME:PST
DTSTART:20261101T090000
END:STANDARD
BEGIN:DAYLIGHT
TZOFFSETFROM:-0800
TZOFFSETTO:-0700
TZNAME:PDT
DTSTART:20270314T100000
END:DAYLIGHT
BEGIN:STANDARD
TZOFFSETFROM:-0700
TZOFFSETTO:-0800
TZNAME:PST
DTSTART:20271107T090000
END:STANDARD
END:VTIMEZONE
BEGIN:VEVENT
DTSTART;TZID=America/Los_Angeles:20260203T103000
DTEND;TZID=America/Los_Angeles:20260203T113000
DTSTAMP:20260420T092255
CREATED:20260121T155359Z
LAST-MODIFIED:20260126T190718Z
UID:10012007-1770114600-1770118200@www.kiwassa.ca
SUMMARY:Mamá Ganso | Mother Goose
DESCRIPTION:For parents and caregivers with kids 2 – 4 years old \nJoin us for a safe space where guardians connect with infants through the power of songs and stories. \n\nConnect with other families in your community\nGain skills and confidence to create positive connection with your child\nLearn about healthy child development\nGet connected to community resources\n\nWhen: Tuesdays\, January 27 – March 24\, 2026 (closed March 3) (8 sessions)\nTime: 10:00 – 11:30 am\nWhere: Kiwassa Neighbourhood House\nProgram in Spanish\nFREE \nContact family.coordinator@kiwassa.ca
URL:https://www.kiwassa.ca/event/mother-goose/2026-02-03/
LOCATION:Kiwassa Neighbourhood House\, 2425 Oxford St\,\, Vancouver\, BC\, V5K 1M7\, Canada
CATEGORIES:Family Programs,Spanish
ATTACH;FMTTYPE=image/jpeg:https://www.kiwassa.ca/wp-content/uploads/2026/01/Mama-Ganso-Jan-27-March-24-2026-image-scaled.jpg
ORGANIZER;CN="Danais Yera Guerra":MAILTO:family.coordinator@kiwassa.ca
GEO:49.2860309;-123.0555911
X-APPLE-STRUCTURED-LOCATION;VALUE=URI;X-ADDRESS=Kiwassa Neighbourhood House 2425 Oxford St Vancouver BC V5K 1M7 Canada;X-APPLE-RADIUS=500;X-TITLE=2425 Oxford St\,:geo:-123.0555911,49.2860309
END:VEVENT
BEGIN:VEVENT
DTSTART;TZID=America/Los_Angeles:20260203T120000
DTEND;TZID=America/Los_Angeles:20260203T140000
DTSTAMP:20260420T092255
CREATED:20260119T230242Z
LAST-MODIFIED:20260119T230807Z
UID:10011979-1770120000-1770127200@www.kiwassa.ca
SUMMARY:Regulation and Reconnection
DESCRIPTION:A co-created Mastermind to honor the past and share a new inner future. Join us for a safe space center on meaning-making\, emotional regulation\, and conscious reinvention. Through co-created dialogue\, breathwork\, gentle somatic practices\, and nervous system–supportive tools\, participants learn to honor the past without remaining tied to it. \nRegulation & Reconnection is a transformational Mastermind designed for women who have lived through adversity\, trauma\, loss\, or difficult experiences and are now ready to reshape their inner world. \nWhen: Tuesdays\, January 27 – March 10\, 2026 (6 sessions) (closed March 3)\nTime: 12:00 – 2:00 pm\nWhere: Kiwassa Neighbourhood House\nFREE \nContact family.coordinator@kiwassa.ca
URL:https://www.kiwassa.ca/event/regulation-and-reconnection-2/
LOCATION:BC
CATEGORIES:Family Programs
ATTACH;FMTTYPE=image/jpeg:https://www.kiwassa.ca/wp-content/uploads/2026/01/Mastermind-Regulation-and-Reconnection-Jan-27-Mar-3.jpg
END:VEVENT
BEGIN:VEVENT
DTSTART;TZID=America/Los_Angeles:20260205T130000
DTEND;TZID=America/Los_Angeles:20260205T150000
DTSTAMP:20260420T092255
CREATED:20260121T153639Z
LAST-MODIFIED:20260126T192412Z
UID:10012063-1770296400-1770303600@www.kiwassa.ca
SUMMARY:The Migration of Objects
DESCRIPTION:Join us for a warm\, inclusive\, and healing workshop where women come together to explore migration\, memory\, identity\, and belonging through meaningful objects. \nThrough guided narrative\, conversation\, storytelling\, and photography\, you’ll create a personal “object portrait” that honours your journey — in your own voice and in community with other women. \nThursdays\, January 29\, Feb 5\, 12\, 19\, 26\, (closed March 5)\, March 12\, 2026\nTime: 1:00 – 3:00 pm\nRegister by emailing family.coordinator@kiwassa.ca.
URL:https://www.kiwassa.ca/event/the-migration-of-objects-3/2026-02-05/
LOCATION:Kiwassa Neighbourhood House\, 2425 Oxford St\,\, Vancouver\, BC\, V5K 1M7\, Canada
CATEGORIES:Family Programs
ATTACH;FMTTYPE=image/jpeg:https://www.kiwassa.ca/wp-content/uploads/2026/01/The-Migration-of-Objects-Poster-Jan29-Mar12-image-scaled.jpg
GEO:49.2860309;-123.0555911
X-APPLE-STRUCTURED-LOCATION;VALUE=URI;X-ADDRESS=Kiwassa Neighbourhood House 2425 Oxford St Vancouver BC V5K 1M7 Canada;X-APPLE-RADIUS=500;X-TITLE=2425 Oxford St\,:geo:-123.0555911,49.2860309
END:VEVENT
BEGIN:VEVENT
DTSTART;TZID=America/Los_Angeles:20260210T103000
DTEND;TZID=America/Los_Angeles:20260210T113000
DTSTAMP:20260420T092255
CREATED:20260121T155359Z
LAST-MODIFIED:20260126T190718Z
UID:10012008-1770719400-1770723000@www.kiwassa.ca
SUMMARY:Mamá Ganso | Mother Goose
DESCRIPTION:For parents and caregivers with kids 2 – 4 years old \nJoin us for a safe space where guardians connect with infants through the power of songs and stories. \n\nConnect with other families in your community\nGain skills and confidence to create positive connection with your child\nLearn about healthy child development\nGet connected to community resources\n\nWhen: Tuesdays\, January 27 – March 24\, 2026 (closed March 3) (8 sessions)\nTime: 10:00 – 11:30 am\nWhere: Kiwassa Neighbourhood House\nProgram in Spanish\nFREE \nContact family.coordinator@kiwassa.ca
URL:https://www.kiwassa.ca/event/mother-goose/2026-02-10/
LOCATION:Kiwassa Neighbourhood House\, 2425 Oxford St\,\, Vancouver\, BC\, V5K 1M7\, Canada
CATEGORIES:Family Programs,Spanish
ATTACH;FMTTYPE=image/jpeg:https://www.kiwassa.ca/wp-content/uploads/2026/01/Mama-Ganso-Jan-27-March-24-2026-image-scaled.jpg
ORGANIZER;CN="Danais Yera Guerra":MAILTO:family.coordinator@kiwassa.ca
GEO:49.2860309;-123.0555911
X-APPLE-STRUCTURED-LOCATION;VALUE=URI;X-ADDRESS=Kiwassa Neighbourhood House 2425 Oxford St Vancouver BC V5K 1M7 Canada;X-APPLE-RADIUS=500;X-TITLE=2425 Oxford St\,:geo:-123.0555911,49.2860309
END:VEVENT
BEGIN:VEVENT
DTSTART;TZID=America/Los_Angeles:20260210T120000
DTEND;TZID=America/Los_Angeles:20260210T140000
DTSTAMP:20260420T092255
CREATED:20260121T154034Z
LAST-MODIFIED:20260126T190434Z
UID:10011989-1770724800-1770732000@www.kiwassa.ca
SUMMARY:Regulation and Reconnection
DESCRIPTION:A co-created Mastermind to honor the past and share a new inner future. Join us for a safe space center on meaning-making\, emotional regulation\, and conscious reinvention. Through co-created dialogue\, breathwork\, gentle somatic practices\, and nervous system–supportive tools\, participants learn to honor the past without remaining tied to it. \nRegulation & Reconnection is a transformational Mastermind designed for women who have lived through adversity\, trauma\, loss\, or difficult experiences and are now ready to reshape their inner world. \nWhen: Tuesdays\, January 27 – March 10\, 2026 (6 sessions) (closed March 3)\nTime: 12:00 – 2:00 pm\nWhere: Kiwassa Neighbourhood House\nFREE \nContact family.coordinator@kiwassa.ca
URL:https://www.kiwassa.ca/event/regulation-and-reconnection-3/2026-02-10/
LOCATION:Kiwassa Neighbourhood House\, 2425 Oxford St\,\, Vancouver\, BC\, V5K 1M7\, Canada
CATEGORIES:Family Programs
ATTACH;FMTTYPE=image/jpeg:https://www.kiwassa.ca/wp-content/uploads/2026/01/Mastermind-Regulation-and-Reconnection-Jan-27-Mar-10-image.jpg
ORGANIZER;CN="Danais Yera Guerra":MAILTO:family.coordinator@kiwassa.ca
GEO:49.2860309;-123.0555911
X-APPLE-STRUCTURED-LOCATION;VALUE=URI;X-ADDRESS=Kiwassa Neighbourhood House 2425 Oxford St Vancouver BC V5K 1M7 Canada;X-APPLE-RADIUS=500;X-TITLE=2425 Oxford St\,:geo:-123.0555911,49.2860309
END:VEVENT
BEGIN:VEVENT
DTSTART;TZID=America/Los_Angeles:20260212T130000
DTEND;TZID=America/Los_Angeles:20260212T150000
DTSTAMP:20260420T092255
CREATED:20260121T153639Z
LAST-MODIFIED:20260126T192412Z
UID:10011984-1770901200-1770908400@www.kiwassa.ca
SUMMARY:The Migration of Objects
DESCRIPTION:Join us for a warm\, inclusive\, and healing workshop where women come together to explore migration\, memory\, identity\, and belonging through meaningful objects. \nThrough guided narrative\, conversation\, storytelling\, and photography\, you’ll create a personal “object portrait” that honours your journey — in your own voice and in community with other women. \nThursdays\, January 29\, Feb 5\, 12\, 19\, 26\, (closed March 5)\, March 12\, 2026\nTime: 1:00 – 3:00 pm\nRegister by emailing family.coordinator@kiwassa.ca.
URL:https://www.kiwassa.ca/event/the-migration-of-objects-3/2026-02-12/
LOCATION:Kiwassa Neighbourhood House\, 2425 Oxford St\,\, Vancouver\, BC\, V5K 1M7\, Canada
CATEGORIES:Family Programs
ATTACH;FMTTYPE=image/jpeg:https://www.kiwassa.ca/wp-content/uploads/2026/01/The-Migration-of-Objects-Poster-Jan29-Mar12-image-scaled.jpg
GEO:49.2860309;-123.0555911
X-APPLE-STRUCTURED-LOCATION;VALUE=URI;X-ADDRESS=Kiwassa Neighbourhood House 2425 Oxford St Vancouver BC V5K 1M7 Canada;X-APPLE-RADIUS=500;X-TITLE=2425 Oxford St\,:geo:-123.0555911,49.2860309
END:VEVENT
BEGIN:VEVENT
DTSTART;TZID=America/Los_Angeles:20260217T103000
DTEND;TZID=America/Los_Angeles:20260217T113000
DTSTAMP:20260420T092255
CREATED:20260121T155359Z
LAST-MODIFIED:20260126T190718Z
UID:10012009-1771324200-1771327800@www.kiwassa.ca
SUMMARY:Mamá Ganso | Mother Goose
DESCRIPTION:For parents and caregivers with kids 2 – 4 years old \nJoin us for a safe space where guardians connect with infants through the power of songs and stories. \n\nConnect with other families in your community\nGain skills and confidence to create positive connection with your child\nLearn about healthy child development\nGet connected to community resources\n\nWhen: Tuesdays\, January 27 – March 24\, 2026 (closed March 3) (8 sessions)\nTime: 10:00 – 11:30 am\nWhere: Kiwassa Neighbourhood House\nProgram in Spanish\nFREE \nContact family.coordinator@kiwassa.ca
URL:https://www.kiwassa.ca/event/mother-goose/2026-02-17/
LOCATION:Kiwassa Neighbourhood House\, 2425 Oxford St\,\, Vancouver\, BC\, V5K 1M7\, Canada
CATEGORIES:Family Programs,Spanish
ATTACH;FMTTYPE=image/jpeg:https://www.kiwassa.ca/wp-content/uploads/2026/01/Mama-Ganso-Jan-27-March-24-2026-image-scaled.jpg
ORGANIZER;CN="Danais Yera Guerra":MAILTO:family.coordinator@kiwassa.ca
GEO:49.2860309;-123.0555911
X-APPLE-STRUCTURED-LOCATION;VALUE=URI;X-ADDRESS=Kiwassa Neighbourhood House 2425 Oxford St Vancouver BC V5K 1M7 Canada;X-APPLE-RADIUS=500;X-TITLE=2425 Oxford St\,:geo:-123.0555911,49.2860309
END:VEVENT
BEGIN:VEVENT
DTSTART;TZID=America/Los_Angeles:20260217T120000
DTEND;TZID=America/Los_Angeles:20260217T140000
DTSTAMP:20260420T092255
CREATED:20260121T154034Z
LAST-MODIFIED:20260126T190434Z
UID:10011990-1771329600-1771336800@www.kiwassa.ca
SUMMARY:Regulation and Reconnection
DESCRIPTION:A co-created Mastermind to honor the past and share a new inner future. Join us for a safe space center on meaning-making\, emotional regulation\, and conscious reinvention. Through co-created dialogue\, breathwork\, gentle somatic practices\, and nervous system–supportive tools\, participants learn to honor the past without remaining tied to it. \nRegulation & Reconnection is a transformational Mastermind designed for women who have lived through adversity\, trauma\, loss\, or difficult experiences and are now ready to reshape their inner world. \nWhen: Tuesdays\, January 27 – March 10\, 2026 (6 sessions) (closed March 3)\nTime: 12:00 – 2:00 pm\nWhere: Kiwassa Neighbourhood House\nFREE \nContact family.coordinator@kiwassa.ca
URL:https://www.kiwassa.ca/event/regulation-and-reconnection-3/2026-02-17/
LOCATION:Kiwassa Neighbourhood House\, 2425 Oxford St\,\, Vancouver\, BC\, V5K 1M7\, Canada
CATEGORIES:Family Programs
ATTACH;FMTTYPE=image/jpeg:https://www.kiwassa.ca/wp-content/uploads/2026/01/Mastermind-Regulation-and-Reconnection-Jan-27-Mar-10-image.jpg
ORGANIZER;CN="Danais Yera Guerra":MAILTO:family.coordinator@kiwassa.ca
GEO:49.2860309;-123.0555911
X-APPLE-STRUCTURED-LOCATION;VALUE=URI;X-ADDRESS=Kiwassa Neighbourhood House 2425 Oxford St Vancouver BC V5K 1M7 Canada;X-APPLE-RADIUS=500;X-TITLE=2425 Oxford St\,:geo:-123.0555911,49.2860309
END:VEVENT
BEGIN:VEVENT
DTSTART;TZID=America/Los_Angeles:20260219T130000
DTEND;TZID=America/Los_Angeles:20260219T150000
DTSTAMP:20260420T092255
CREATED:20260121T153639Z
LAST-MODIFIED:20260126T192412Z
UID:10011985-1771506000-1771513200@www.kiwassa.ca
SUMMARY:The Migration of Objects
DESCRIPTION:Join us for a warm\, inclusive\, and healing workshop where women come together to explore migration\, memory\, identity\, and belonging through meaningful objects. \nThrough guided narrative\, conversation\, storytelling\, and photography\, you’ll create a personal “object portrait” that honours your journey — in your own voice and in community with other women. \nThursdays\, January 29\, Feb 5\, 12\, 19\, 26\, (closed March 5)\, March 12\, 2026\nTime: 1:00 – 3:00 pm\nRegister by emailing family.coordinator@kiwassa.ca.
URL:https://www.kiwassa.ca/event/the-migration-of-objects-3/2026-02-19/
LOCATION:Kiwassa Neighbourhood House\, 2425 Oxford St\,\, Vancouver\, BC\, V5K 1M7\, Canada
CATEGORIES:Family Programs
ATTACH;FMTTYPE=image/jpeg:https://www.kiwassa.ca/wp-content/uploads/2026/01/The-Migration-of-Objects-Poster-Jan29-Mar12-image-scaled.jpg
GEO:49.2860309;-123.0555911
X-APPLE-STRUCTURED-LOCATION;VALUE=URI;X-ADDRESS=Kiwassa Neighbourhood House 2425 Oxford St Vancouver BC V5K 1M7 Canada;X-APPLE-RADIUS=500;X-TITLE=2425 Oxford St\,:geo:-123.0555911,49.2860309
END:VEVENT
BEGIN:VEVENT
DTSTART;TZID=America/Los_Angeles:20260221T113000
DTEND;TZID=America/Los_Angeles:20260221T133000
DTSTAMP:20260420T092255
CREATED:20260213T183040Z
LAST-MODIFIED:20260213T183334Z
UID:10012112-1771673400-1771680600@www.kiwassa.ca
SUMMARY:Dads Connect Parenting Program
DESCRIPTION:In partnership with Mount Pleasant Family Centre\, Dads Connect is a welcoming and supportive space for fathers and father figures of young children (ages 0–7) to come together\, build skills\, and strengthen relationships with their children. Grounded in connection\, care\, and respect\, this program focuses on building strong\, healthy parent–child relationships through: \n\nPractical parenting tools and strategies\nUnderstanding child development\nStrengthening communication and emotional connection\nReflecting on fatherhood\, identity\, and leadership in the family\nConnecting with other dads in a supportive environment\n\nDads Connect offers a space to learn\, share experiences\, and grow together. \nEvery Saturday for 6 sessions\, February 21st to April 4th\, 11:30am – 1:30pm at Mount Pleasant Family Centre\n2910 St. George Street. Lunch and childminding provided. Spaces are limited. \nRegister HERE  \nFor more information: Danais Yera Guerra\nCall/Text: 236-858-0370\nEmail: family.coordinator@kiwassa.ca
URL:https://www.kiwassa.ca/event/dads-connect-parenting-program/2026-02-21/
LOCATION:Mount Pleasant Family Centre\, 2910 St. George Street\, 2910 St. George Street\, Vancouver\, BC\, V5T 2K8\, Canada
CATEGORIES:Family Programs
ATTACH;FMTTYPE=image/jpeg:https://www.kiwassa.ca/wp-content/uploads/2026/02/Dads-Connect-Parenting-Prog_Feb-21_2026.jpg
ORGANIZER;CN="Danais Yera Guerra":MAILTO:family.coordinator@kiwassa.ca
GEO:49.2586309;-123.0928166
X-APPLE-STRUCTURED-LOCATION;VALUE=URI;X-ADDRESS=Mount Pleasant Family Centre 2910 St. George Street 2910 St. George Street Vancouver BC V5T 2K8 Canada;X-APPLE-RADIUS=500;X-TITLE=2910 St. George Street:geo:-123.0928166,49.2586309
END:VEVENT
BEGIN:VEVENT
DTSTART;TZID=America/Los_Angeles:20260224T103000
DTEND;TZID=America/Los_Angeles:20260224T113000
DTSTAMP:20260420T092255
CREATED:20260121T155359Z
LAST-MODIFIED:20260126T190718Z
UID:10012010-1771929000-1771932600@www.kiwassa.ca
SUMMARY:Mamá Ganso | Mother Goose
DESCRIPTION:For parents and caregivers with kids 2 – 4 years old \nJoin us for a safe space where guardians connect with infants through the power of songs and stories. \n\nConnect with other families in your community\nGain skills and confidence to create positive connection with your child\nLearn about healthy child development\nGet connected to community resources\n\nWhen: Tuesdays\, January 27 – March 24\, 2026 (closed March 3) (8 sessions)\nTime: 10:00 – 11:30 am\nWhere: Kiwassa Neighbourhood House\nProgram in Spanish\nFREE \nContact family.coordinator@kiwassa.ca
URL:https://www.kiwassa.ca/event/mother-goose/2026-02-24/
LOCATION:Kiwassa Neighbourhood House\, 2425 Oxford St\,\, Vancouver\, BC\, V5K 1M7\, Canada
CATEGORIES:Family Programs,Spanish
ATTACH;FMTTYPE=image/jpeg:https://www.kiwassa.ca/wp-content/uploads/2026/01/Mama-Ganso-Jan-27-March-24-2026-image-scaled.jpg
ORGANIZER;CN="Danais Yera Guerra":MAILTO:family.coordinator@kiwassa.ca
GEO:49.2860309;-123.0555911
X-APPLE-STRUCTURED-LOCATION;VALUE=URI;X-ADDRESS=Kiwassa Neighbourhood House 2425 Oxford St Vancouver BC V5K 1M7 Canada;X-APPLE-RADIUS=500;X-TITLE=2425 Oxford St\,:geo:-123.0555911,49.2860309
END:VEVENT
BEGIN:VEVENT
DTSTART;TZID=America/Los_Angeles:20260224T120000
DTEND;TZID=America/Los_Angeles:20260224T140000
DTSTAMP:20260420T092255
CREATED:20260121T154034Z
LAST-MODIFIED:20260126T190434Z
UID:10011991-1771934400-1771941600@www.kiwassa.ca
SUMMARY:Regulation and Reconnection
DESCRIPTION:A co-created Mastermind to honor the past and share a new inner future. Join us for a safe space center on meaning-making\, emotional regulation\, and conscious reinvention. Through co-created dialogue\, breathwork\, gentle somatic practices\, and nervous system–supportive tools\, participants learn to honor the past without remaining tied to it. \nRegulation & Reconnection is a transformational Mastermind designed for women who have lived through adversity\, trauma\, loss\, or difficult experiences and are now ready to reshape their inner world. \nWhen: Tuesdays\, January 27 – March 10\, 2026 (6 sessions) (closed March 3)\nTime: 12:00 – 2:00 pm\nWhere: Kiwassa Neighbourhood House\nFREE \nContact family.coordinator@kiwassa.ca
URL:https://www.kiwassa.ca/event/regulation-and-reconnection-3/2026-02-24/
LOCATION:Kiwassa Neighbourhood House\, 2425 Oxford St\,\, Vancouver\, BC\, V5K 1M7\, Canada
CATEGORIES:Family Programs
ATTACH;FMTTYPE=image/jpeg:https://www.kiwassa.ca/wp-content/uploads/2026/01/Mastermind-Regulation-and-Reconnection-Jan-27-Mar-10-image.jpg
ORGANIZER;CN="Danais Yera Guerra":MAILTO:family.coordinator@kiwassa.ca
GEO:49.2860309;-123.0555911
X-APPLE-STRUCTURED-LOCATION;VALUE=URI;X-ADDRESS=Kiwassa Neighbourhood House 2425 Oxford St Vancouver BC V5K 1M7 Canada;X-APPLE-RADIUS=500;X-TITLE=2425 Oxford St\,:geo:-123.0555911,49.2860309
END:VEVENT
BEGIN:VEVENT
DTSTART;TZID=America/Los_Angeles:20260226T130000
DTEND;TZID=America/Los_Angeles:20260226T150000
DTSTAMP:20260420T092256
CREATED:20260121T153639Z
LAST-MODIFIED:20260126T192412Z
UID:10011986-1772110800-1772118000@www.kiwassa.ca
SUMMARY:The Migration of Objects
DESCRIPTION:Join us for a warm\, inclusive\, and healing workshop where women come together to explore migration\, memory\, identity\, and belonging through meaningful objects. \nThrough guided narrative\, conversation\, storytelling\, and photography\, you’ll create a personal “object portrait” that honours your journey — in your own voice and in community with other women. \nThursdays\, January 29\, Feb 5\, 12\, 19\, 26\, (closed March 5)\, March 12\, 2026\nTime: 1:00 – 3:00 pm\nRegister by emailing family.coordinator@kiwassa.ca.
URL:https://www.kiwassa.ca/event/the-migration-of-objects-3/2026-02-26/
LOCATION:Kiwassa Neighbourhood House\, 2425 Oxford St\,\, Vancouver\, BC\, V5K 1M7\, Canada
CATEGORIES:Family Programs
ATTACH;FMTTYPE=image/jpeg:https://www.kiwassa.ca/wp-content/uploads/2026/01/The-Migration-of-Objects-Poster-Jan29-Mar12-image-scaled.jpg
GEO:49.2860309;-123.0555911
X-APPLE-STRUCTURED-LOCATION;VALUE=URI;X-ADDRESS=Kiwassa Neighbourhood House 2425 Oxford St Vancouver BC V5K 1M7 Canada;X-APPLE-RADIUS=500;X-TITLE=2425 Oxford St\,:geo:-123.0555911,49.2860309
END:VEVENT
BEGIN:VEVENT
DTSTART;TZID=America/Los_Angeles:20260228T113000
DTEND;TZID=America/Los_Angeles:20260228T133000
DTSTAMP:20260420T092256
CREATED:20260213T183040Z
LAST-MODIFIED:20260213T183334Z
UID:10012113-1772278200-1772285400@www.kiwassa.ca
SUMMARY:Dads Connect Parenting Program
DESCRIPTION:In partnership with Mount Pleasant Family Centre\, Dads Connect is a welcoming and supportive space for fathers and father figures of young children (ages 0–7) to come together\, build skills\, and strengthen relationships with their children. Grounded in connection\, care\, and respect\, this program focuses on building strong\, healthy parent–child relationships through: \n\nPractical parenting tools and strategies\nUnderstanding child development\nStrengthening communication and emotional connection\nReflecting on fatherhood\, identity\, and leadership in the family\nConnecting with other dads in a supportive environment\n\nDads Connect offers a space to learn\, share experiences\, and grow together. \nEvery Saturday for 6 sessions\, February 21st to April 4th\, 11:30am – 1:30pm at Mount Pleasant Family Centre\n2910 St. George Street. Lunch and childminding provided. Spaces are limited. \nRegister HERE  \nFor more information: Danais Yera Guerra\nCall/Text: 236-858-0370\nEmail: family.coordinator@kiwassa.ca
URL:https://www.kiwassa.ca/event/dads-connect-parenting-program/2026-02-28/
LOCATION:Mount Pleasant Family Centre\, 2910 St. George Street\, 2910 St. George Street\, Vancouver\, BC\, V5T 2K8\, Canada
CATEGORIES:Family Programs
ATTACH;FMTTYPE=image/jpeg:https://www.kiwassa.ca/wp-content/uploads/2026/02/Dads-Connect-Parenting-Prog_Feb-21_2026.jpg
ORGANIZER;CN="Danais Yera Guerra":MAILTO:family.coordinator@kiwassa.ca
GEO:49.2586309;-123.0928166
X-APPLE-STRUCTURED-LOCATION;VALUE=URI;X-ADDRESS=Mount Pleasant Family Centre 2910 St. George Street 2910 St. George Street Vancouver BC V5T 2K8 Canada;X-APPLE-RADIUS=500;X-TITLE=2910 St. George Street:geo:-123.0928166,49.2586309
END:VEVENT
END:VCALENDAR