BEGIN:VCALENDAR
VERSION:2.0
PRODID:-//Kiwassa Neighbourhood House - ECPv6.15.20//NONSGML v1.0//EN
CALSCALE:GREGORIAN
METHOD:PUBLISH
X-WR-CALNAME:Kiwassa Neighbourhood House
X-ORIGINAL-URL:https://www.kiwassa.ca
X-WR-CALDESC:Events for Kiwassa Neighbourhood House
REFRESH-INTERVAL;VALUE=DURATION:PT1H
X-Robots-Tag:noindex
X-PUBLISHED-TTL:PT1H
BEGIN:VTIMEZONE
TZID:America/Los_Angeles
BEGIN:DAYLIGHT
TZOFFSETFROM:-0800
TZOFFSETTO:-0700
TZNAME:PDT
DTSTART:20250309T100000
END:DAYLIGHT
BEGIN:STANDARD
TZOFFSETFROM:-0700
TZOFFSETTO:-0800
TZNAME:PST
DTSTART:20251102T090000
END:STANDARD
BEGIN:DAYLIGHT
TZOFFSETFROM:-0800
TZOFFSETTO:-0700
TZNAME:PDT
DTSTART:20260308T100000
END:DAYLIGHT
BEGIN:STANDARD
TZOFFSETFROM:-0700
TZOFFSETTO:-0800
TZNAME:PST
DTSTART:20261101T090000
END:STANDARD
BEGIN:DAYLIGHT
TZOFFSETFROM:-0800
TZOFFSETTO:-0700
TZNAME:PDT
DTSTART:20270314T100000
END:DAYLIGHT
BEGIN:STANDARD
TZOFFSETFROM:-0700
TZOFFSETTO:-0800
TZNAME:PST
DTSTART:20271107T090000
END:STANDARD
END:VTIMEZONE
BEGIN:VEVENT
DTSTART;TZID=America/Los_Angeles:20260227T093000
DTEND;TZID=America/Los_Angeles:20260227T123000
DTSTAMP:20260420T053659
CREATED:20260211T192048Z
LAST-MODIFIED:20260211T192048Z
UID:10012107-1772184600-1772195400@www.kiwassa.ca
SUMMARY:Guardian Break Time
DESCRIPTION:Take a break at Kiwassa! We appreciate all the hard work parents and guardians and as a small gift\, we would love to host a cozy space for our guardians to drop off their children in childminding (ages 3 years old and up) and enjoy some snacks with fellow parents/guardians. \nSpots are limited and registration is required.\nPlease register thru this link: Guardian Break Time – Fill out form \nStarting February 20\, 2026 on Fridays from 9:30am to 12:30pm. \nNeed further information? Email community@coordinator@kiwassa.ca
URL:https://www.kiwassa.ca/event/guardian-break-time/2026-02-27/
LOCATION:Kiwassa Neighbourhood House\, 2425 Oxford St\,\, Vancouver\, BC\, V5K 1M7\, Canada
CATEGORIES:Community
ATTACH;FMTTYPE=image/jpeg:https://www.kiwassa.ca/wp-content/uploads/2026/02/Guardian-Break-Time-Fridays-starting-Feb-20-2026-scaled.jpg
GEO:49.2860309;-123.0555911
X-APPLE-STRUCTURED-LOCATION;VALUE=URI;X-ADDRESS=Kiwassa Neighbourhood House 2425 Oxford St Vancouver BC V5K 1M7 Canada;X-APPLE-RADIUS=500;X-TITLE=2425 Oxford St\,:geo:-123.0555911,49.2860309
END:VEVENT
BEGIN:VEVENT
DTSTART;TZID=America/Los_Angeles:20260227T100000
DTEND;TZID=America/Los_Angeles:20260227T110000
DTSTAMP:20260420T053659
CREATED:20260112T235120Z
LAST-MODIFIED:20260325T203105Z
UID:10012101-1772186400-1772190000@www.kiwassa.ca
SUMMARY:Craft and Connect
DESCRIPTION:Come hang out at our Craft & Connect event! Spend time creating\, chatting\, and connecting with others in a friendly\, low-pressure space. All skill levels are welcome. 🎨 This event is free\, with optional donations appreciated. Last Friday of the month. \nRegistration is required: Monthly Craft & Connect – Fill out form. \nNeed further information? Email community@coordinator@kiwassa.ca \n 
URL:https://www.kiwassa.ca/event/craft-and-connect/2026-02-27/
LOCATION:Kiwassa Neighbourhood House\, 2425 Oxford St\,\, Vancouver\, BC\, V5K 1M7\, Canada
CATEGORIES:Community
ATTACH;FMTTYPE=image/png:https://www.kiwassa.ca/wp-content/uploads/2026/01/Kiwassa-Craft-Connect-Fridays-Starting-Jan-30-2026.png
ORGANIZER;CN="Patrice Tai-Clair":MAILTO:community.coordinator@kiwassa.ca
GEO:49.2860309;-123.0555911
X-APPLE-STRUCTURED-LOCATION;VALUE=URI;X-ADDRESS=Kiwassa Neighbourhood House 2425 Oxford St Vancouver BC V5K 1M7 Canada;X-APPLE-RADIUS=500;X-TITLE=2425 Oxford St\,:geo:-123.0555911,49.2860309
END:VEVENT
END:VCALENDAR