BEGIN:VCALENDAR
VERSION:2.0
PRODID:-//Kiwassa Neighbourhood House - ECPv6.15.20//NONSGML v1.0//EN
CALSCALE:GREGORIAN
METHOD:PUBLISH
X-ORIGINAL-URL:https://www.kiwassa.ca
X-WR-CALDESC:Events for Kiwassa Neighbourhood House
REFRESH-INTERVAL;VALUE=DURATION:PT1H
X-Robots-Tag:noindex
X-PUBLISHED-TTL:PT1H
BEGIN:VTIMEZONE
TZID:America/Los_Angeles
BEGIN:DAYLIGHT
TZOFFSETFROM:-0800
TZOFFSETTO:-0700
TZNAME:PDT
DTSTART:20240310T100000
END:DAYLIGHT
BEGIN:STANDARD
TZOFFSETFROM:-0700
TZOFFSETTO:-0800
TZNAME:PST
DTSTART:20241103T090000
END:STANDARD
BEGIN:DAYLIGHT
TZOFFSETFROM:-0800
TZOFFSETTO:-0700
TZNAME:PDT
DTSTART:20250309T100000
END:DAYLIGHT
BEGIN:STANDARD
TZOFFSETFROM:-0700
TZOFFSETTO:-0800
TZNAME:PST
DTSTART:20251102T090000
END:STANDARD
BEGIN:DAYLIGHT
TZOFFSETFROM:-0800
TZOFFSETTO:-0700
TZNAME:PDT
DTSTART:20260308T100000
END:DAYLIGHT
BEGIN:STANDARD
TZOFFSETFROM:-0700
TZOFFSETTO:-0800
TZNAME:PST
DTSTART:20261101T090000
END:STANDARD
END:VTIMEZONE
BEGIN:VEVENT
DTSTART;TZID=America/Los_Angeles:20251203T103000
DTEND;TZID=America/Los_Angeles:20251203T113000
DTSTAMP:20260423T032843
CREATED:20251107T202111Z
LAST-MODIFIED:20251107T202111Z
UID:10011930-1764757800-1764761400@www.kiwassa.ca
SUMMARY:Infant Massage
DESCRIPTION:
URL:https://www.kiwassa.ca/event/infant-massage-4/
LOCATION:BC
ATTACH;FMTTYPE=image/jpeg:https://www.kiwassa.ca/wp-content/uploads/2025/11/Infant-Massage.jpg
END:VEVENT
BEGIN:VEVENT
DTSTART;TZID=America/Los_Angeles:20251203T140000
DTEND;TZID=America/Los_Angeles:20251203T160000
DTSTAMP:20260423T032843
CREATED:20251110T190815Z
LAST-MODIFIED:20251125T233647Z
UID:10011953-1764770400-1764777600@www.kiwassa.ca
SUMMARY:Low-Cost Produce Market
DESCRIPTION:
URL:https://www.kiwassa.ca/event/low-cost-produce-market-4/
LOCATION:BC
CATEGORIES:Food,Produce Market
END:VEVENT
BEGIN:VEVENT
DTSTART;TZID=America/Los_Angeles:20251203T153000
DTEND;TZID=America/Los_Angeles:20251203T173000
DTSTAMP:20260423T032843
CREATED:20251110T201324Z
LAST-MODIFIED:20251110T201324Z
UID:10011963-1764775800-1764783000@www.kiwassa.ca
SUMMARY:Youth Drop-in
DESCRIPTION:
URL:https://www.kiwassa.ca/event/youth-drop-in-18/
LOCATION:BC
CATEGORIES:Youth
ATTACH;FMTTYPE=image/png:https://www.kiwassa.ca/wp-content/uploads/2025/11/Youth-Drop-In-Wednesday.png
END:VEVENT
BEGIN:VEVENT
DTSTART;TZID=America/Los_Angeles:20251203T180000
DTEND;TZID=America/Los_Angeles:20251203T200000
DTSTAMP:20260423T032843
CREATED:20251110T194724Z
LAST-MODIFIED:20251110T194724Z
UID:10011956-1764784800-1764792000@www.kiwassa.ca
SUMMARY:MenTOR
DESCRIPTION:
URL:https://www.kiwassa.ca/event/mentor-4/
LOCATION:BC
CATEGORIES:Family Programs
ATTACH;FMTTYPE=image/jpeg:https://www.kiwassa.ca/wp-content/uploads/2025/10/MENTOR.jpg
END:VEVENT
END:VCALENDAR