BEGIN:VCALENDAR
VERSION:2.0
PRODID:-//Kiwassa Neighbourhood House - ECPv6.15.20//NONSGML v1.0//EN
CALSCALE:GREGORIAN
METHOD:PUBLISH
X-ORIGINAL-URL:https://www.kiwassa.ca
X-WR-CALDESC:Events for Kiwassa Neighbourhood House
REFRESH-INTERVAL;VALUE=DURATION:PT1H
X-Robots-Tag:noindex
X-PUBLISHED-TTL:PT1H
BEGIN:VTIMEZONE
TZID:America/Los_Angeles
BEGIN:DAYLIGHT
TZOFFSETFROM:-0800
TZOFFSETTO:-0700
TZNAME:PDT
DTSTART:20240310T100000
END:DAYLIGHT
BEGIN:STANDARD
TZOFFSETFROM:-0700
TZOFFSETTO:-0800
TZNAME:PST
DTSTART:20241103T090000
END:STANDARD
BEGIN:DAYLIGHT
TZOFFSETFROM:-0800
TZOFFSETTO:-0700
TZNAME:PDT
DTSTART:20250309T100000
END:DAYLIGHT
BEGIN:STANDARD
TZOFFSETFROM:-0700
TZOFFSETTO:-0800
TZNAME:PST
DTSTART:20251102T090000
END:STANDARD
BEGIN:DAYLIGHT
TZOFFSETFROM:-0800
TZOFFSETTO:-0700
TZNAME:PDT
DTSTART:20260308T100000
END:DAYLIGHT
BEGIN:STANDARD
TZOFFSETFROM:-0700
TZOFFSETTO:-0800
TZNAME:PST
DTSTART:20261101T090000
END:STANDARD
END:VTIMEZONE
BEGIN:VEVENT
DTSTART;TZID=America/Los_Angeles:20251127T093000
DTEND;TZID=America/Los_Angeles:20251127T120000
DTSTAMP:20260421T085307
CREATED:20251107T014224Z
LAST-MODIFIED:20251107T014224Z
UID:10011923-1764235800-1764244800@www.kiwassa.ca
SUMMARY:Crochet for Beginners
DESCRIPTION:
URL:https://www.kiwassa.ca/event/crochet-for-beginners-2/
LOCATION:BC
CATEGORIES:Family Programs
ATTACH;FMTTYPE=image/jpeg:https://www.kiwassa.ca/wp-content/uploads/2025/11/Family-Place-November-Calendar-scaled.jpg
END:VEVENT
BEGIN:VEVENT
DTSTART;TZID=America/Los_Angeles:20251127T103000
DTEND;TZID=America/Los_Angeles:20251127T123000
DTSTAMP:20260421T085307
CREATED:20251107T204203Z
LAST-MODIFIED:20251107T204203Z
UID:10011936-1764239400-1764246600@www.kiwassa.ca
SUMMARY:Nobody's Perfect (English)
DESCRIPTION:
URL:https://www.kiwassa.ca/event/nobodys-perfect-english-3/
LOCATION:BC
CATEGORIES:Family Programs
ATTACH;FMTTYPE=image/jpeg:https://www.kiwassa.ca/wp-content/uploads/2025/11/Nobodys-Perfect_Nov.jpg
END:VEVENT
BEGIN:VEVENT
DTSTART;TZID=America/Los_Angeles:20251127T120000
DTEND;TZID=America/Los_Angeles:20251127T133000
DTSTAMP:20260421T085307
CREATED:20251107T003553Z
LAST-MODIFIED:20251107T003553Z
UID:10011913-1764244800-1764250200@www.kiwassa.ca
SUMMARY:Seniors — Beginners & Intermediate ESL Class
DESCRIPTION:
URL:https://www.kiwassa.ca/event/seniors-beginners-intermediate-esl-class-3/
LOCATION:BC
CATEGORIES:Seniors
ATTACH;FMTTYPE=image/png:https://www.kiwassa.ca/wp-content/uploads/2025/11/Seniors-Nov-Calendar-English.png
END:VEVENT
BEGIN:VEVENT
DTSTART;TZID=America/Los_Angeles:20251127T153000
DTEND;TZID=America/Los_Angeles:20251127T173000
DTSTAMP:20260421T085307
CREATED:20251107T212112Z
LAST-MODIFIED:20251107T212112Z
UID:10011947-1764257400-1764264600@www.kiwassa.ca
SUMMARY:Youth Drop-in
DESCRIPTION:
URL:https://www.kiwassa.ca/event/youth-drop-in-12/
LOCATION:BC
CATEGORIES:Youth
ATTACH;FMTTYPE=image/png:https://www.kiwassa.ca/wp-content/uploads/2025/11/Youth-Drop-In-Thursday.png
END:VEVENT
END:VCALENDAR