BEGIN:VCALENDAR
VERSION:2.0
PRODID:-//Kiwassa Neighbourhood House - ECPv6.15.20//NONSGML v1.0//EN
CALSCALE:GREGORIAN
METHOD:PUBLISH
X-ORIGINAL-URL:https://www.kiwassa.ca
X-WR-CALDESC:Events for Kiwassa Neighbourhood House
REFRESH-INTERVAL;VALUE=DURATION:PT1H
X-Robots-Tag:noindex
X-PUBLISHED-TTL:PT1H
BEGIN:VTIMEZONE
TZID:America/Los_Angeles
BEGIN:DAYLIGHT
TZOFFSETFROM:-0800
TZOFFSETTO:-0700
TZNAME:PDT
DTSTART:20240310T100000
END:DAYLIGHT
BEGIN:STANDARD
TZOFFSETFROM:-0700
TZOFFSETTO:-0800
TZNAME:PST
DTSTART:20241103T090000
END:STANDARD
BEGIN:DAYLIGHT
TZOFFSETFROM:-0800
TZOFFSETTO:-0700
TZNAME:PDT
DTSTART:20250309T100000
END:DAYLIGHT
BEGIN:STANDARD
TZOFFSETFROM:-0700
TZOFFSETTO:-0800
TZNAME:PST
DTSTART:20251102T090000
END:STANDARD
BEGIN:DAYLIGHT
TZOFFSETFROM:-0800
TZOFFSETTO:-0700
TZNAME:PDT
DTSTART:20260308T100000
END:DAYLIGHT
BEGIN:STANDARD
TZOFFSETFROM:-0700
TZOFFSETTO:-0800
TZNAME:PST
DTSTART:20261101T090000
END:STANDARD
END:VTIMEZONE
BEGIN:VEVENT
DTSTART;TZID=America/Los_Angeles:20250730T150000
DTEND;TZID=America/Los_Angeles:20250730T173000
DTSTAMP:20260420T074739
CREATED:20250715T200646Z
LAST-MODIFIED:20250715T200906Z
UID:10011824-1753887600-1753896600@www.kiwassa.ca
SUMMARY:Pride Summer Fest
DESCRIPTION:Join us on July 30\, Wednesday at Pandora Park for an afternoon of sunshine\, celebration\, and community connection. 🌞 \nCome out to support and learn from our incredible LGBTQ2S+ neighbours and community builders. Explore local resources\, meet new friends\, and enjoy a vibrant space where everyone belongs. \n✨ No registration needed! Bring your friends\, family\, and pets. All are welcome! \nLocal organizations are invited to host a table and share their work with the community. Sign up through bit.ly/SummerFestRegistration. Feel free to reach out to Patrice at community.coordinator@kiwassa.ca if you have any questions!
URL:https://www.kiwassa.ca/event/pride-summer-fest/
LOCATION:Pandora Park
CATEGORIES:Community
END:VEVENT
END:VCALENDAR