BEGIN:VCALENDAR
VERSION:2.0
PRODID:-//Kiwassa Neighbourhood House - ECPv6.15.20//NONSGML v1.0//EN
CALSCALE:GREGORIAN
METHOD:PUBLISH
X-ORIGINAL-URL:https://www.kiwassa.ca
X-WR-CALDESC:Events for Kiwassa Neighbourhood House
REFRESH-INTERVAL;VALUE=DURATION:PT1H
X-Robots-Tag:noindex
X-PUBLISHED-TTL:PT1H
BEGIN:VTIMEZONE
TZID:America/Los_Angeles
BEGIN:DAYLIGHT
TZOFFSETFROM:-0800
TZOFFSETTO:-0700
TZNAME:PDT
DTSTART:20240310T100000
END:DAYLIGHT
BEGIN:STANDARD
TZOFFSETFROM:-0700
TZOFFSETTO:-0800
TZNAME:PST
DTSTART:20241103T090000
END:STANDARD
BEGIN:DAYLIGHT
TZOFFSETFROM:-0800
TZOFFSETTO:-0700
TZNAME:PDT
DTSTART:20250309T100000
END:DAYLIGHT
BEGIN:STANDARD
TZOFFSETFROM:-0700
TZOFFSETTO:-0800
TZNAME:PST
DTSTART:20251102T090000
END:STANDARD
BEGIN:DAYLIGHT
TZOFFSETFROM:-0800
TZOFFSETTO:-0700
TZNAME:PDT
DTSTART:20260308T100000
END:DAYLIGHT
BEGIN:STANDARD
TZOFFSETFROM:-0700
TZOFFSETTO:-0800
TZNAME:PST
DTSTART:20261101T090000
END:STANDARD
END:VTIMEZONE
BEGIN:VEVENT
DTSTART;TZID=America/Los_Angeles:20250224T093000
DTEND;TZID=America/Los_Angeles:20250224T120000
DTSTAMP:20260420T173038
CREATED:20250204T192217Z
LAST-MODIFIED:20250204T192217Z
UID:10011469-1740389400-1740398400@www.kiwassa.ca
SUMMARY:Family Place Activity
DESCRIPTION:
URL:https://www.kiwassa.ca/event/family-place-activity-10/2025-02-24/
LOCATION:Kiwassa Neighbourhood House\, 2425 Oxford St\,\, Vancouver\, BC\, V5K 1M7\, Canada
CATEGORIES:Family Programs
GEO:49.2860309;-123.0555911
X-APPLE-STRUCTURED-LOCATION;VALUE=URI;X-ADDRESS=Kiwassa Neighbourhood House 2425 Oxford St Vancouver BC V5K 1M7 Canada;X-APPLE-RADIUS=500;X-TITLE=2425 Oxford St\,:geo:-123.0555911,49.2860309
END:VEVENT
BEGIN:VEVENT
DTSTART;TZID=America/Los_Angeles:20250224T103000
DTEND;TZID=America/Los_Angeles:20250224T123000
DTSTAMP:20260420T173038
CREATED:20250204T195937Z
LAST-MODIFIED:20250204T200319Z
UID:10011539-1740393000-1740400200@www.kiwassa.ca
SUMMARY:Seniors Line Dance
DESCRIPTION:
URL:https://www.kiwassa.ca/event/seniors-line-dance-5/2025-02-24/
LOCATION:BC
CATEGORIES:Seniors
END:VEVENT
BEGIN:VEVENT
DTSTART;TZID=America/Los_Angeles:20250224T120000
DTEND;TZID=America/Los_Angeles:20250224T140000
DTSTAMP:20260420T173038
CREATED:20250204T200213Z
LAST-MODIFIED:20250204T200537Z
UID:10011541-1740398400-1740405600@www.kiwassa.ca
SUMMARY:Seniors Fundraising & Gathering
DESCRIPTION: 
URL:https://www.kiwassa.ca/event/seniors-fundraising-gathering/2025-02-24/
LOCATION:Kiwassa Neighbourhood House\, 2425 Oxford St\,\, Vancouver\, BC\, V5K 1M7\, Canada
CATEGORIES:Seniors
GEO:49.2860309;-123.0555911
X-APPLE-STRUCTURED-LOCATION;VALUE=URI;X-ADDRESS=Kiwassa Neighbourhood House 2425 Oxford St Vancouver BC V5K 1M7 Canada;X-APPLE-RADIUS=500;X-TITLE=2425 Oxford St\,:geo:-123.0555911,49.2860309
END:VEVENT
END:VCALENDAR