BEGIN:VCALENDAR
VERSION:2.0
PRODID:-//Kiwassa Neighbourhood House - ECPv6.15.20//NONSGML v1.0//EN
CALSCALE:GREGORIAN
METHOD:PUBLISH
X-WR-CALNAME:Kiwassa Neighbourhood House
X-ORIGINAL-URL:https://www.kiwassa.ca
X-WR-CALDESC:Events for Kiwassa Neighbourhood House
REFRESH-INTERVAL;VALUE=DURATION:PT1H
X-Robots-Tag:noindex
X-PUBLISHED-TTL:PT1H
BEGIN:VTIMEZONE
TZID:America/Los_Angeles
BEGIN:DAYLIGHT
TZOFFSETFROM:-0800
TZOFFSETTO:-0700
TZNAME:PDT
DTSTART:20210314T100000
END:DAYLIGHT
BEGIN:STANDARD
TZOFFSETFROM:-0700
TZOFFSETTO:-0800
TZNAME:PST
DTSTART:20211107T090000
END:STANDARD
BEGIN:DAYLIGHT
TZOFFSETFROM:-0800
TZOFFSETTO:-0700
TZNAME:PDT
DTSTART:20220313T100000
END:DAYLIGHT
BEGIN:STANDARD
TZOFFSETFROM:-0700
TZOFFSETTO:-0800
TZNAME:PST
DTSTART:20221106T090000
END:STANDARD
BEGIN:DAYLIGHT
TZOFFSETFROM:-0800
TZOFFSETTO:-0700
TZNAME:PDT
DTSTART:20230312T100000
END:DAYLIGHT
BEGIN:STANDARD
TZOFFSETFROM:-0700
TZOFFSETTO:-0800
TZNAME:PST
DTSTART:20231105T090000
END:STANDARD
END:VTIMEZONE
BEGIN:VEVENT
DTSTART;TZID=America/Los_Angeles:20220909T050000
DTEND;TZID=America/Los_Angeles:20220909T070000
DTSTAMP:20260422T111055
CREATED:20171205T055638Z
LAST-MODIFIED:20171205T055638Z
UID:10006177-1662699600-1662706800@www.kiwassa.ca
SUMMARY:Seniors Card Games
DESCRIPTION:
URL:https://www.kiwassa.ca/event/seniors-card-games/2022-09-09/
LOCATION:Kiwassa Neighbourhood House\, 2425 Oxford St\,\, Vancouver\, BC\, V5K 1M7\, Canada
GEO:49.2860309;-123.0555911
X-APPLE-STRUCTURED-LOCATION;VALUE=URI;X-ADDRESS=Kiwassa Neighbourhood House 2425 Oxford St Vancouver BC V5K 1M7 Canada;X-APPLE-RADIUS=500;X-TITLE=2425 Oxford St\,:geo:-123.0555911,49.2860309
END:VEVENT
BEGIN:VEVENT
DTSTART;TZID=America/Los_Angeles:20220909T073000
DTEND;TZID=America/Los_Angeles:20220909T093000
DTSTAMP:20260422T111055
CREATED:20181012T120824Z
LAST-MODIFIED:20181012T120824Z
UID:10007844-1662708600-1662715800@www.kiwassa.ca
SUMMARY:Youth Action Council Meetings
DESCRIPTION:Join our Youth Action Council by committing to attend our monthly meetings where we host workshops\, discussions and plan for future projects together. This is a place for you to voice your opinions and bring your ideas to the table. Help us design more effective programs for young people and share your insights about how organizations can better serve youth in our communities.
URL:https://www.kiwassa.ca/event/youth-action-council-meetings-2/2022-09-09/
LOCATION:Kiwassa Neighbourhood House\, 2425 Oxford St\,\, Vancouver\, BC\, V5K 1M7\, Canada
GEO:49.2860309;-123.0555911
X-APPLE-STRUCTURED-LOCATION;VALUE=URI;X-ADDRESS=Kiwassa Neighbourhood House 2425 Oxford St Vancouver BC V5K 1M7 Canada;X-APPLE-RADIUS=500;X-TITLE=2425 Oxford St\,:geo:-123.0555911,49.2860309
END:VEVENT
END:VCALENDAR